Workbook

Sheet 様式 
A1: 45748 | E1: 学内◯第◯号
A3: 学長 殿
A4: 理事（事務組織担当） 殿
A6: 非常勤職員の採用について、下記のとおり申請します。
A8: 申請者（部局等の長） | D8: 〇〇学部長
A10: No. | B10: 新規/継続 | C10: 職員番号 | D10: 氏名 | E10: フリガナ | F10: 性別 | G10: 生年月日 | H10: 職名 | I10: 特例法対象 | J10: 身分 | K10: 国籍 | L10: 所属 | M10: 係・講座 | N10: 採用予定期間（始） | O10: 採用予定期間（終） | P10: 勤務形態 （フル/パート） | Q10: 週当たり勤務時間数 | R10: 週当たり勤務日数 | S10: 始業時間① | T10: 終業時間① | U10: 勤務曜日① | V10: 休憩時間① | W10: 始業時間② | X10: 終業時間② | Y10: 勤務曜日② | Z10: 休憩時間② | AA10: 始業時間③ | AB10: 終業時間③ | AC10: 勤務曜日③ | AD10: 休憩時間③ | AE10: 雇用更新見込み | AF10: 経費区分 | AG10: 財源コード | AH10: 目的コード | AI10: 所管コード | AJ10: プロジェクト コード | AK10: 備考
A11: 1
A12: 2
A13: 3
A14: 4
A15: 5
A16: 6
A17: 7
A18: 8
A19: 9
A20: 10
A21: 11
A22: 12
... A40: 30

Sheet 記入例
A1: 45748 | E1: 学内人第１００号
A3: 学長 殿
A4: 理事（事務組織担当） 殿
A6: 非常勤職員の採用について、下記のとおり申請します。
A8: 申請者（部局等の長） | D8: 総務部長
A9: No. | B9: 新規/継続 | C9: 職員番号 | D9: 氏名 | E9: フリガナ | F9: 性別 | G9: 生年月日 | H9: 職名 | I9: 特例法対象 | J9: 身分 | K9: 国籍 | L9: 所属 | M9: 係・講座 | N9: 採用予定期間（始） | O9: 採用予定期間（終） | P9: 勤務形態 （フル/パート） | Q9: 週当たり勤務時間数 | R9: 週当たり勤務日数 | S9: 始業時間① | T9: 終業時間① | U9: 勤務曜日① | V9: 休憩時間① | W9: 始業時間② | X9: 終業時間② | Y9: 勤務曜日② | Z9: 休憩時間② | AA9: 始業時間③ | AB9: 終業時間③ | AC9: 勤務曜日③ | AD9: 休憩時間③ | AE9: 雇用更新見込み | AF9: 経費区分 | AG9: 財源コード | AH9: 目的コード | AI9: 所管コード | AJ9: プロジェクト コード | AK9: 備考
A10: 1 | B10: 新規 | C10: 01234567 | D10: 琉大 太郎 | E10: リュウダイ タロウ | F10: 男 | G10: 32874 | H10: 技術補佐員 | I10: 対象 | K10: 日本 | L10: 総務部人事企画課 | M10: 任用係 | N10: 46113 | O10: 46477 | P10: パートタイム職員 | Q10: 30 | R10: 5 | S10: 0.35416667 | T10: 0.64583333 | U10: 月・木 | V10: 60 | W10: 0.35416667 | X10: 0.5625 | Y10: 火 | Z10: 30 | AA10: 0.375 | AB10: 0.70833333 | AC10: 水 | AD10: 60 | AE10: 有り | AF10: 産学連携等研究経費_共同研究 | AG10: 8300 | AH10: 111111 | AI10: 111111 | AJ10: 24A1111111 | AK10: 勤務時間帯④ 9：00～16：00（金） 休憩時間60分
A11: 2
A12: 3
A13: 4
A14: 5
A15: 6
A16: 7
A17: 8
A18: 9
A19: 10
A20: 11
A21: 12
A22: 13
... A39: 30

Sheet 参考_部局内確認用
A1: 非常勤職員採用申請書（部局内確認用）
A2: 部 局 名
A4: No. | B4: 採用予定 職 名 （課・係） | D4: 採用予定者 氏名(ﾌﾘｶﾞﾅ) 個 人 番 号 | E4: 採用予定期間 | F4: 週労働時間、 始業・週時間及び勤務日 | J4: 雇用 更新 見込 | K4: 経費区分 (ﾌﾟﾛｼﾞｪｸﾄｺｰﾄﾞ等） | M4: 備 考
A5: 1 | B5: 職 名 | F5: ='様式 '!P11 -> 0 | J5: ='様式 '!AE11 -> 0 | K5: 経費区分 | M5: ='様式 '!AK11 -> 0
B6: ='様式 '!H11 -> 0 | D6: ='様式 '!E11 -> 0 | E6: ='様式 '!N11 -> 0 | K6: ='様式 '!AF11 -> 0
B7: 特例対象者 | C7: =IF('様式 '!I11="",FALSE,TRUE) -> FALSE | D7: ='様式 '!D11 -> 0 | F7: =IF(F5="フルタイム職員","",IF(F5=0,"","（週"&'様式 '!Q11&"時間）"))
B8: ='様式 '!L11 -> 0 | E8: ～ | F8: =IF('様式 '!S11=0,"",'様式 '!S11) | G8: ～ | H8: =IF('様式 '!T11=0,"",'様式 '!T11) | I8: =IF('様式 '!U11=0,"",'様式 '!U11) | K8: 財源 | L8: ='様式 '!AG11 -> 0
E9: ='様式 '!O11 -> 0 | F9: =IF('様式 '!W11=0,"",'様式 '!W11) | G9: =IF(F9="","","～") | H9: =IF('様式 '!X11=0,"",'様式 '!X11) | I9: =IF('様式 '!Y11=0,"",'様式 '!Y11) | K9: 目的 | L9: ='様式 '!AH11 -> 0
B10: ='様式 '!M11 -> 0 | F10: =IF('様式 '!AA11=0,"",'様式 '!AA11) | G10: =IF(F10="","","～") | H10: =IF('様式 '!AB11=0,"",'様式 '!AB11) | I10: =IF('様式 '!AC11=0,"",'様式 '!AC11) | K10: 所管 | L10: ='様式 '!AI11 -> 0
D11: ='様式 '!C11 -> 0 | F11: （週 | G11: =IF('様式 '!R11=0,"",'様式 '!R11) | I11: 日勤務） | K11: P.C. | L11: ='様式 '!AJ11 -> 0
A12: 2 | B12: 職 名 | F12: ='様式 '!P12 -> 0 | J12: ='様式 '!AE12 -> 0 | K12: 経費区分 | M12: ='様式 '!AK12 -> 0
B13: ='様式 '!H12 -> 0 | D13: ='様式 '!E12 -> 0 | E13: ='様式 '!N12 -> 0 | K13: ='様式 '!AF12 -> 0
B14: 特例対象者 | C14: =IF('様式 '!I12="",FALSE,TRUE) -> FALSE | D14: ='様式 '!D12 -> 0 | F14: =IF(F12="フルタイム職員","",IF(F12=0,"","（週"&'様式 '!Q12&"時間）"))
B15: ='様式 '!L12 -> 0 | E15: ～ | F15: =IF('様式 '!S12=0,"",'様式 '!S12) | G15: ～ | H15: =IF('様式 '!T12=0,"",'様式 '!T12) | I15: =IF('様式 '!U12=0,"",'様式 '!U12) | K15: 財源 | L15: ='様式 '!AG12 -> 0
E16: ='様式 '!O12 -> 0 | F16: =IF('様式 '!W12=0,"",'様式 '!W12) | G16: =IF(F16="","","～") | H16: =IF('様式 '!X12=0,"",'様式 '!X12) | I16: =IF('様式 '!Y12=0,"",'様式 '!Y12) | K16: 目的 | L16: ='様式 '!AH12 -> 0
B17: ='様式 '!M12 -> 0 | F17: =IF('様式 '!AA12=0,"",'様式 '!AA12) | G17: =IF(F17="","","～") | H17: =IF('様式 '!AB12=0,"",'様式 '!AB12) | I17: =IF('様式 '!AC12=0,"",'様式 '!AC12) | K17: 所管 | L17: ='様式 '!AI12 -> 0
D18: ='様式 '!C12 -> 0 | F18: （週 | G18: =IF('様式 '!R12=0,"",'様式 '!R12) | I18: 日勤務） | K18: P.C. | L18: ='様式 '!AJ12 -> 0
A19: 3 | B19: 職 名 | F19: ='様式 '!P13 -> 0 | J19: ='様式 '!AE13 -> 0 | K19: 経費区分 | M19: ='様式 '!AK13 -> 0
B20: ='様式 '!H13 -> 0 | D20: ='様式 '!E13 -> 0 | E20: ='様式 '!N13 -> 0 | K20: ='様式 '!AF13 -> 0
B21: 特例対象者 | C21: =IF('様式 '!I13="",FALSE,TRUE) -> FALSE | D21: ='様式 '!D13 -> 0 | F21: =IF(F19="フルタイム職員","",IF(F19=0,"","（週"&'様式 '!Q13&"時間）"))
B22: ='様式 '!L13 -> 0 | E22: ～ | F22: =IF('様式 '!S13=0,"",'様式 '!S13) | G22: ～ | H22: =IF('様式 '!T13=0,"",'様式 '!T13) | I22: =IF('様式 '!U13=0,"",'様式 '!U13) | K22: 財源 | L22: ='様式 '!AG13 -> 0
E23: ='様式 '!O13 -> 0 | F23: =IF('様式 '!W13=0,"",'様式 '!W13) | G23: =IF(F23="","","～") | H23: =IF('様式 '!X13=0,"",'様式 '!X13) | I23: =IF('様式 '!Y13=0,"",'様式 '!Y13) | K23: 目的 | L23: ='様式 '!AH13 -> 0
B24: ='様式 '!M13 -> 0 | F24: =IF('様式 '!AA13=0,"",'様式 '!AA13) | G24: =IF(F24="","","～") | H24: =IF('様式 '!AB13=0,"",'様式 '!AB13) | I24: =IF('様式 '!AC13=0,"",'様式 '!AC13) | K24: 所管 | L24: ='様式 '!AI13 -> 0
D25: ='様式 '!C13 -> 0 | F25: （週 | G25: =IF('様式 '!R13=0,"",'様式 '!R13) | I25: 日勤務） | K25: P.C. | L25: ='様式 '!AJ13 -> 0
A26: 4 | B26: 職 名 | F26: ='様式 '!P14 -> 0 | J26: ='様式 '!AE14 -> 0 | K26: 経費区分 | M26: ='様式 '!AK14 -> 0
B27: ='様式 '!H14 -> 0 | D27: ='様式 '!E14 -> 0 | E27: ='様式 '!N14 -> 0 | K27: ='様式 '!AF14 -> 0
B28: 特例対象者 | C28: =IF('様式 '!I14="",FALSE,TRUE) -> FALSE | D28: ='様式 '!D14 -> 0 | F28: =IF(F26="フルタイム職員","",IF(F26=0,"","（週"&'様式 '!Q14&"時間）"))
B29: ='様式 '!L14 -> 0 | E29: ～ | F29: =IF('様式 '!S14=0,"",'様式 '!S14) | G29: ～ | H29: =IF('様式 '!T14=0,"",'様式 '!T14) | I29: =IF('様式 '!U14=0,"",'様式 '!U14) | K29: 財源 | L29: ='様式 '!AG14 -> 0
E30: ='様式 '!O14 -> 0 | F30: =IF('様式 '!W14=0,"",'様式 '!W14) | G30: =IF(F30="","","～") | H30: =IF('様式 '!X14=0,"",'様式 '!X14) | I30: =IF('様式 '!Y14=0,"",'様式 '!Y14) | K30: 目的 | L30: ='様式 '!AH14 -> 0
B31: ='様式 '!M14 -> 0 | F31: =IF('様式 '!AA14=0,"",'様式 '!AA14) | G31: =IF(F31="","","～") | H31: =IF('様式 '!AB14=0,"",'様式 '!AB14) | I31: =IF('様式 '!AC14=0,"",'様式 '!AC14) | K31: 所管 | L31: ='様式 '!AI14 -> 0
D32: ='様式 '!C14 -> 0 | F32: （週 | G32: =IF('様式 '!R14=0,"",'様式 '!R14) | I32: 日勤務） | K32: P.C. | L32: ='様式 '!AJ14 -> 0
A33: 5 | B33: 職 名 | F33: ='様式 '!P15 -> 0 | J33: ='様式 '!AE15 -> 0 | K33: 経費区分 | M33: ='様式 '!AK15 -> 0
B34: ='様式 '!H15 -> 0 | D34: ='様式 '!E15 -> 0 | E34: ='様式 '!N15 -> 0 | K34: ='様式 '!AF15 -> 0
B35: 特例対象者 | C35: =IF('様式 '!I15="",FALSE,TRUE) -> FALSE | D35: ='様式 '!D15 -> 0 | F35: =IF(F33="フルタイム職員","",IF(F33=0,"","（週"&'様式 '!Q15&"時間）"))
B36: ='様式 '!L15 -> 0 | E36: ～ | F36: =IF('様式 '!S15=0,"",'様式 '!S15) | G36: ～ | H36: =IF('様式 '!T15=0,"",'様式 '!T15) | I36: =IF('様式 '!U15=0,"",'様式 '!U15) | K36: 財源 | L36: ='様式 '!AG15 -> 0
E37: ='様式 '!O15 -> 0 | F37: =IF('様式 '!W15=0,"",'様式 '!W15) | G37: =IF(F37="","","～") | H37: =IF('様式 '!X15=0,"",'様式 '!X15) | I37: =IF('様式 '!Y15=0,"",'様式 '!Y15) | K37: 目的 | L37: ='様式 '!AH15 -> 0
B38: ='様式 '!M15 -> 0 | F38: =IF('様式 '!AA15=0,"",'様式 '!AA15) | G38: =IF(F38="","","～") | H38: =IF('様式 '!AB15=0,"",'様式 '!AB15) | I38: =IF('様式 '!AC15=0,"",'様式 '!AC15) | K38: 所管 | L38: ='様式 '!AI15 -> 0
D39: ='様式 '!C15 -> 0 | F39: （週 | G39: =IF('様式 '!R15=0,"",'様式 '!R15) | I39: 日勤務） | K39: P.C. | L39: ='様式 '!AJ15 -> 0
A40: 6 | B40: 職 名 | F40: ='様式 '!P16 -> 0 | J40: ='様式 '!AE16 -> 0 | K40: 経費区分 | M40: ='様式 '!AK16 -> 0
B41: ='様式 '!H16 -> 0 | D41: ='様式 '!E16 -> 0 | E41: ='様式 '!N16 -> 0 | K41: ='様式 '!AF16 -> 0
...

Sheet 入力リスト用シート
A1: 新規/継続 | B1: 性別 | C1: 職名 | D1: 特例法対象者 | E1: 身分 | F1: 国籍 | G1: 勤務形態（フル/パート） | H1: 勤務曜日 | I1: 休憩時間 | J1: 雇用更新見込み | K1: 財源
A3: 新規 | B3: 男 | C3: 事務補佐員 | D3: 対象 | E3: 本学学生 | F3: 日本 | G3: フルタイム職員 | H3: 月～金 | I3: 60 | J3: 有り | K3: 大学運営費
A4: 継続 | B4: 女 | C4: 技術補佐員 | E4: 本学以外の学生 | F4: 外国 | G4: パートタイム職員 | I4: 45 | J4: 無し | K4: 大学運営費_戦略的重点配分経費
C5: 技能補佐員 | I5: 30 | K5: 委任経理金_寄附金
C6: 技能補佐員_部活動指導員 | I6: なし | K6: 産学連携等研究経費_受託事業
C7: 臨時用務員 | K7: 産学連携等研究経費_受託研究
C8: 研究活動等支援員 | K8: 産学連携等研究経費_共同研究
C9: 産学官連携研究員 | K9: 科研費補助金_直接
C10: 科研費研究員 | K10: 科研費補助金_間接
C11: ポスドク研究員 | K11: その他の補助金
