Workbook

Sheet 様式 
A1: 45748 | E1: 学内◯第◯号
A3: 学長 殿
A4: 理事（事務組織担当） 殿
A6: 非常勤職員の採用について、下記のとおり申請します。
A8: 申請者（部局等の長） | D8: 〇〇学部長
A10: No. | B10: 新規/継続 | C10: 職員番号 | D10: 氏名 | E10: フリガナ | F10: 性別 | G10: 生年月日 | H10: 職名 | I10: 特例法対象 | J10: 身分 | K10: 国籍 | L10: 所属 | M10: 係・講座 | N10: 採用予定期間（始） | O10: 採用予定期間（終） | P10: 勤務形態 （フル/パート） | Q10: 週当たり勤務時間数 | R10: 週当たり勤務日数 | S10: 始業時間① | T10: 終業時間① | U10: 勤務曜日① | V10: 休憩時間① | W10: 始業時間② | X10: 終業時間② | Y10: 勤務曜日② | Z10: 休憩時間② | AA10: 始業時間③ | AB10: 終業時間③ | AC10: 勤務曜日③ | AD10: 休憩時間③ | AE10: 雇用更新見込み | AF10: 経費区分 | AG10: 財源コード | AH10: 目的コード | AI10: 所管コード | AJ10: プロジェクト コード | AK10: 備考
A11: 1
A12: 2
A13: 3
A14: 4
A15: 5
A16: 6
A17: 7
A18: 8
A19: 9
A20: 10
A21: 11
A22: 12
... A40: 30

Sheet 記入例
A1: 45748 | E1: 学内人第１００号
A3: 学長 殿
A4: 理事（事務組織担当） 殿
A6: 非常勤職員の採用について、下記のとおり申請します。
A8: 申請者（部局等の長） | D8: 総務部長
A9: No. | B9: 新規/継続 | C9: 職員番号 | D9: 氏名 | E9: フリガナ | F9: 性別 | G9: 生年月日 | H9: 職名 | I9: 特例法対象 | J9: 身分 | K9: 国籍 | L9: 所属 | M9: 係・講座 | N9: 採用予定期間（始） | O9: 採用予定期間（終） | P9: 勤務形態 （フル/パート） | Q9: 週当たり勤務時間数 | R9: 週当たり勤務日数 | S9: 始業時間① | T9: 終業時間① | U9: 勤務曜日① | V9: 休憩時間① | W9: 始業時間② | X9: 終業時間② | Y9: 勤務曜日② | Z9: 休憩時間② | AA9: 始業時間③ | AB9: 終業時間③ | AC9: 勤務曜日③ | AD9: 休憩時間③ | AE9: 雇用更新見込み | AF9: 経費区分 | AG9: 財源コード | AH9: 目的コード | AI9: 所管コード | AJ9: プロジェクト コード | AK9: 備考
A10: 1 | B10: 新規 | C10: 01234567 | D10: 琉大 太郎 | E10: リュウダイ タロウ | F10: 男 | G10: 32874 | H10: 技術補佐員 | I10: 対象 | K10: 日本 | L10: 総務部人事企画課 | M10: 任用係 | N10: 46113 | O10: 46477 | P10: パートタイム職員 | Q10: 30 | R10: 5 | S10: 0.35416667 | T10: 0.64583333 | U10: 月・木 | V10: 60 | W10: 0.35416667 | X10: 0.5625 | Y10: 火 | Z10: 30 | AA10: 0.375 | AB10: 0.70833333 | AC10: 水 | AD10: 60 | AE10: 有り | AF10: 産学連携等研究経費_共同研究 | AG10: 8300 | AH10: 111111 | AI10: 111111 | AJ10: 24A1111111 | AK10: 勤務時間帯④ 9：00～16：00（金） 休憩時間60分
A11: 2
A12: 3
A13: 4
A14: 5
A15: 6
A16: 7
A17: 8
A18: 9
A19: 10
A20: 11
A21: 12
A22: 13
... A39: 30

Sheet 参考_部局内確認用
A1: 非常勤職員採用申請書（部局内確認用）
A2: 部 局 名
A4: No. | B4: 採用予定 職 名 （課・係） | D4: 採用予定者 氏名(ﾌﾘｶﾞﾅ) 個 人 番 号 | E4: 採用予定期間 | F4: 週労働時間、 始業・週時間及び勤務日 | J4: 雇用 更新 見込 | K4: 経費区分 (ﾌﾟﾛｼﾞｪｸﾄｺｰﾄﾞ等） | M4: 備 考
A5: 1 | B5: 職 名 | F5: ='様式 '!P11 -> 0 | J5: ='様式 '!AE11 -> 0 | K5: 経費区分 | M5: ='様式 '!AK11 -> 0
B6: ='様式 '!H11 -> 0 | D6: ='様式 '!E11 -> 0 | E6: ='様式 '!N11 -> 0 | K6: ='様式 '!AF11 -> 0
B7: 特例対象者 | C7: =IF('様式 '!I11="",FALSE,TRUE) -> FALSE | D7: ='様式 '!D11 -> 0 | F7: =IF(F5="フルタイム職員","",IF(F5=0,"","（週"&'様式 '!Q11&"時間）"))
B8: ='様式 '!L11 -> 0 | E8: ～ | F8: =IF('様式 '!S11=0,"",'様式 '!S11) | G8: ～ | H8: =IF('様式 '!T11=0,"",'様式 '!T11) | I8: =IF('様式 '!U11=0,"",'様式 '!U11) | K8: 財源 | L8: ='様式 '!AG11 -> 0
E9: ='様式 '!O11 -> 0 | F9: =IF('様式 '!W11=0,"",'様式 '!W11) | G9: =IF(F9="","","～") | H9: =IF('様式 '!X11=0,"",'様式 '!X11) | I9: =IF('様式 '!Y11=0,"",'様式 '!Y11) | K9: 目的 | L9: ='様式 '!AH11 -> 0
B10: ='様式 '!M11 -> 0 | F10: =IF('様式 '!AA11=0,"",'様式 '!AA11) | G10: =IF(F10="","","～") | H10: =IF('様式 '!AB11=0,"",'様式 '!AB11) | I10: =IF('様式 '!AC11=0,"",'様式 '!AC11) | K10: 所管 | L10: ='様式 '!AI11 -> 0
D11: ='様式 '!C11 -> 0 | F11: （週 | G11: =IF('様式 '!R11=0,"",'様式 '!R11) | I11: 日勤務） | K11: P.C. | L11: ='様式 '!AJ11 -> 0
A12: 2 | B12: 職 名 | F12: ='様式 '!P12 -> 0 | J12: ='様式 '!AE12 -> 0 | K12: 経費区分 | M12: ='様式 '!AK12 -> 0
B13: ='様式 '!H12 -> 0 | D13: ='様式 '!E12 -> 0 | E13: ='様式 '!N12 -> 0 | K13: ='様式 '!AF12 -> 0
B14: 特例対象者 | C14: =IF('様式 '!I12="",FALSE,TRUE) -> FALSE | D14: ='様式 '!D12 -> 0 | F14: =IF(F12="フルタイム職員","",IF(F12=0,"","（週"&'様式 '!Q12&"時間）"))
B15: ='様式 '!L12 -> 0 | E15: ～ | F15: =IF('様式 '!S12=0,"",'様式 '!S12) | G15: ～ | H15: =IF('様式 '!T12=0,"",'様式 '!T12) | I15: =IF('様式 '!U12=0,"",'様式 '!U12) | K15: 財源 | L15: ='様式 '!AG12 -> 0
E16: ='様式 '!O12 -> 0 | F16: =IF('様式 '!W12=0,"",'様式 '!W12) | G16: =IF(F16="","","～") | H16: =IF('様式 '!X12=0,"",'様式 '!X12) | I16: =IF('様式 '!Y12=0,"",'様式 '!Y12) | K16: 目的 | L16: ='様式 '!AH12 -> 0
B17: ='様式 '!M12 -> 0 | F17: =IF('様式 '!AA12=0,"",'様式 '!AA12) | G17: =IF(F17="","","～") | H17: =IF('様式 '!AB12=0,"",'様式 '!AB12) | I17: =IF('様式 '!AC12=0,"",'様式 '!AC12) | K17: 所管 | L17: ='様式 '!AI12 -> 0
D18: ='様式 '!C12 -> 0 | F18: （週 | G18: =IF('様式 '!R12=0,"",'様式 '!R12) | I18: 日勤務） | K18: P.C. | L18: ='様式 '!AJ12 -> 0
A19: 3 | B19: 職 名 | F19: ='様式 '!P13 -> 0 | J19: ='様式 '!AE13 -> 0 | K19: 経費区分 | M19: ='様式 '!AK13 -> 0
B20: ='様式 '!H13 -> 0 | D20: ='様式 '!E13 -> 0 | E20: ='様式 '!N13 -> 0 | K20: ='様式 '!AF13 -> 0
B21: 特例対象者 | C21: =IF('様式 '!I13="",FALSE,TRUE) -> FALSE | D21: ='様式 '!D13 -> 0 | F21: =IF(F19="フルタイム職員","",IF(F19=0,"","（週"&'様式 '!Q13&"時間）"))
B22: ='様式 '!L13 -> 0 | E22: ～ | F22: =IF('様式 '!S13=0,"",'様式 '!S13) | G22: ～ | H22: =IF('様式 '!T13=0,"",'様式 '!T13) | I22: =IF('様式 '!U13=0,"",'様式 '!U13) | K22: 財源 | L22: ='様式 '!AG13 -> 0
E23: ='様式 '!O13 -> 0 | F23: =IF('様式 '!W13=0,"",'様式 '!W13) | G23: =IF(F23="","","～") | H23: =IF('様式 '!X13=0,"",'様式 '!X13) | I23: =IF('様式 '!Y13=0,"",'様式 '!Y13) | K23: 目的 | L23: ='様式 '!AH13 -> 0
B24: ='様式 '!M13 -> 0 | F24: =IF('様式 '!AA13=0,"",'様式 '!AA13) | G24: =IF(F24="","","～") | H24: =IF('様式 '!AB13=0,"",'様式 '!AB13) | I24: =IF('様式 '!AC13=0,"",'様式 '!AC13) | K24: 所管 | L24: ='様式 '!AI13 -> 0
D25: ='様式 '!C13 -> 0 | F25: （週 | G25: =IF('様式 '!R13=0,"",'様式 '!R13) | I25: 日勤務） | K25: P.C. | L25: ='様式 '!AJ13 -> 0
A26: 4 | B26: 職 名 | F26: ='様式 '!P14 -> 0 | J26: ='様式 '!AE14 -> 0 | K26: 経費区分 | M26: ='様式 '!AK14 -> 0
B27: ='様式 '!H14 -> 0 | D27: ='様式 '!E14 -> 0 | E27: ='様式 '!N14 -> 0 | K27: ='様式 '!AF14 -> 0
B28: 特例対象者 | C28: =IF('様式 '!I14="",FALSE,TRUE) -> FALSE | D28: ='様式 '!D14 -> 0 | F28: =IF(F26="フルタイム職員","",IF(F26=0,"","（週"&'様式 '!Q14&"時間）"))
B29: ='様式 '!L14 -> 0 | E29: ～ | F29: =IF('様式 '!S14=0,"",'様式 '!S14) | G29: ～ | H29: =IF('様式 '!T14=0,"",'様式 '!T14) | I29: =IF('様式 '!U14=0,"",'様式 '!U14) | K29: 財源 | L29: ='様式 '!AG14 -> 0
E30: ='様式 '!O14 -> 0 | F30: =IF('様式 '!W14=0,"",'様式 '!W14) | G30: =IF(F30="","","～") | H30: =IF('様式 '!X14=0,"",'様式 '!X14) | I30: =IF('様式 '!Y14=0,"",'様式 '!Y14) | K30: 目的 | L30: ='様式 '!AH14 -> 0
B31: ='様式 '!M14 -> 0 | F31: =IF('様式 '!AA14=0,"",'様式 '!AA14) | G31: =IF(F31="","","～") | H31: =IF('様式 '!AB14=0,"",'様式 '!AB14) | I31: =IF('様式 '!AC14=0,"",'様式 '!AC14) | K31: 所管 | L31: ='様式 '!AI14 -> 0
D32: ='様式 '!C14 -> 0 | F32: （週 | G32: =IF('様式 '!R14=0,"",'様式 '!R14) | I32: 日勤務） | K32: P.C. | L32: ='様式 '!AJ14 -> 0
A33: 5 | B33: 職 名 | F33: ='様式 '!P15 -> 0 | J33: ='様式 '!AE15 -> 0 | K33: 経費区分 | M33: ='様式 '!AK15 -> 0
B34: ='様式 '!H15 -> 0 | D34: ='様式 '!E15 -> 0 | E34: ='様式 '!N15 -> 0 | K34: ='様式 '!AF15 -> 0
B35: 特例対象者 | C35: =IF('様式 '!I15="",FALSE,TRUE) -> FALSE | D35: ='様式 '!D15 -> 0 | F35: =IF(F33="フルタイム職員","",IF(F33=0,"","（週"&'様式 '!Q15&"時間）"))
B36: ='様式 '!L15 -> 0 | E36: ～ | F36: =IF('様式 '!S15=0,"",'様式 '!S15) | G36: ～ | H36: =IF('様式 '!T15=0,"",'様式 '!T15) | I36: =IF('様式 '!U15=0,"",'様式 '!U15) | K36: 財源 | L36: ='様式 '!AG15 -> 0
E37: ='様式 '!O15 -> 0 | F37: =IF('様式 '!W15=0,"",'様式 '!W15) | G37: =IF(F37="","","～") | H37: =IF('様式 '!X15=0,"",'様式 '!X15) | I37: =IF('様式 '!Y15=0,"",'様式 '!Y15) | K37: 目的 | L37: ='様式 '!AH15 -> 0
B38: ='様式 '!M15 -> 0 | F38: =IF('様式 '!AA15=0,"",'様式 '!AA15) | G38: =IF(F38="","","～") | H38: =IF('様式 '!AB15=0,"",'様式 '!AB15) | I38: =IF('様式 '!AC15=0,"",'様式 '!AC15) | K38: 所管 | L38: ='様式 '!AI15 -> 0
D39: ='様式 '!C15 -> 0 | F39: （週 | G39: =IF('様式 '!R15=0,"",'様式 '!R15) | I39: 日勤務） | K39: P.C. | L39: ='様式 '!AJ15 -> 0
A40: 6 | B40: 職 名 | F40: ='様式 '!P16 -> 0 | J40: ='様式 '!AE16 -> 0 | K40: 経費区分 | M40: ='様式 '!AK16 -> 0
B41: ='様式 '!H16 -> 0 | D41: ='様式 '!E16 -> 0 | E41: ='様式 '!N16 -> 0 | K41: ='様式 '!AF16 -> 0
B42: 特例対象者 | C42: =IF('様式 '!I16="",FALSE,TRUE) -> FALSE | D42: ='様式 '!D16 -> 0 | F42: =IF(F40="フルタイム職員","",IF(F40=0,"","（週"&'様式 '!Q16&"時間）"))
B43: ='様式 '!L16 -> 0 | E43: ～ | F43: =IF('様式 '!S16=0,"",'様式 '!S16) | G43: ～ | H43: =IF('様式 '!T16=0,"",'様式 '!T16) | I43: =IF('様式 '!U16=0,"",'様式 '!U16) | K43: 財源 | L43: ='様式 '!AG16 -> 0
E44: ='様式 '!O16 -> 0 | F44: =IF('様式 '!W16=0,"",'様式 '!W16) | G44: =IF(F44="","","～") | H44: =IF('様式 '!X16=0,"",'様式 '!X16) | I44: =IF('様式 '!Y16=0,"",'様式 '!Y16) | K44: 目的 | L44: ='様式 '!AH16 -> 0
B45: ='様式 '!M16 -> 0 | F45: =IF('様式 '!AA16=0,"",'様式 '!AA16) | G45: =IF(F45="","","～") | H45: =IF('様式 '!AB16=0,"",'様式 '!AB16) | I45: =IF('様式 '!AC16=0,"",'様式 '!AC16) | K45: 所管 | L45: ='様式 '!AI16 -> 0
D46: ='様式 '!C16 -> 0 | F46: （週 | G46: =IF('様式 '!R16=0,"",'様式 '!R16) | I46: 日勤務） | K46: P.C. | L46: ='様式 '!AJ16 -> 0
A47: 7 | B47: 職 名 | F47: ='様式 '!P17 -> 0 | J47: ='様式 '!AE17 -> 0 | K47: 経費区分 | M47: ='様式 '!AK17 -> 0
B48: ='様式 '!H17 -> 0 | D48: ='様式 '!E17 -> 0 | E48: ='様式 '!N17 -> 0 | K48: ='様式 '!AF17 -> 0
B49: 特例対象者 | C49: =IF('様式 '!I17="",FALSE,TRUE) -> FALSE | D49: ='様式 '!D17 -> 0 | F49: =IF(F47="フルタイム職員","",IF(F47=0,"","（週"&'様式 '!Q17&"時間）"))
B50: ='様式 '!L17 -> 0 | E50: ～ | F50: =IF('様式 '!S17=0,"",'様式 '!S17) | G50: ～ | H50: =IF('様式 '!T17=0,"",'様式 '!T17) | I50: =IF('様式 '!U17=0,"",'様式 '!U17) | K50: 財源 | L50: ='様式 '!AG17 -> 0
E51: ='様式 '!O17 -> 0 | F51: =IF('様式 '!W17=0,"",'様式 '!W17) | G51: =IF(F51="","","～") | H51: =IF('様式 '!X17=0,"",'様式 '!X17) | I51: =IF('様式 '!Y17=0,"",'様式 '!Y17) | K51: 目的 | L51: ='様式 '!AH17 -> 0
B52: ='様式 '!M17 -> 0 | F52: =IF('様式 '!AA17=0,"",'様式 '!AA17) | G52: =IF(F52="","","～") | H52: =IF('様式 '!AB17=0,"",'様式 '!AB17) | I52: =IF('様式 '!AC17=0,"",'様式 '!AC17) | K52: 所管 | L52: ='様式 '!AI17 -> 0
D53: ='様式 '!C17 -> 0 | F53: （週 | G53: =IF('様式 '!R17=0,"",'様式 '!R17) | I53: 日勤務） | K53: P.C. | L53: ='様式 '!AJ17 -> 0
A54: 8 | B54: 職 名 | F54: ='様式 '!P18 -> 0 | J54: ='様式 '!AE18 -> 0 | K54: 経費区分 | M54: ='様式 '!AK18 -> 0
B55: ='様式 '!H18 -> 0 | D55: ='様式 '!E18 -> 0 | E55: ='様式 '!N18 -> 0 | K55: ='様式 '!AF18 -> 0
B56: 特例対象者 | C56: =IF('様式 '!I18="",FALSE,TRUE) -> FALSE | D56: ='様式 '!D18 -> 0 | F56: =IF(F54="フルタイム職員","",IF(F54=0,"","（週"&'様式 '!Q18&"時間）"))
B57: ='様式 '!L18 -> 0 | E57: ～ | F57: =IF('様式 '!S18=0,"",'様式 '!S18) | G57: ～ | H57: =IF('様式 '!T18=0,"",'様式 '!T18) | I57: =IF('様式 '!U18=0,"",'様式 '!U18) | K57: 財源 | L57: ='様式 '!AG18 -> 0
E58: ='様式 '!O18 -> 0 | F58: =IF('様式 '!W18=0,"",'様式 '!W18) | G58: =IF(F58="","","～") | H58: =IF('様式 '!X18=0,"",'様式 '!X18) | I58: =IF('様式 '!Y18=0,"",'様式 '!Y18) | K58: 目的 | L58: ='様式 '!AH18 -> 0
B59: ='様式 '!M18 -> 0 | F59: =IF('様式 '!AA18=0,"",'様式 '!AA18) | G59: =IF(F59="","","～") | H59: =IF('様式 '!AB18=0,"",'様式 '!AB18) | I59: =IF('様式 '!AC18=0,"",'様式 '!AC18) | K59: 所管 | L59: ='様式 '!AI18 -> 0
D60: ='様式 '!C18 -> 0 | F60: （週 | G60: =IF('様式 '!R18=0,"",'様式 '!R18) | I60: 日勤務） | K60: P.C. | L60: ='様式 '!AJ18 -> 0
A61: 9 | B61: 職 名 | F61: ='様式 '!P19 -> 0 | J61: ='様式 '!AE19 -> 0 | K61: 経費区分 | M61: ='様式 '!AK19 -> 0
B62: ='様式 '!H19 -> 0 | D62: ='様式 '!E19 -> 0 | E62: ='様式 '!N19 -> 0 | K62: ='様式 '!AF19 -> 0
B63: 特例対象者 | C63: =IF('様式 '!I19="",FALSE,TRUE) -> FALSE | D63: ='様式 '!D19 -> 0 | F63: =IF(F61="フルタイム職員","",IF(F61=0,"","（週"&'様式 '!Q19&"時間）"))
B64: ='様式 '!L19 -> 0 | E64: ～ | F64: =IF('様式 '!S19=0,"",'様式 '!S19) | G64: ～ | H64: =IF('様式 '!T19=0,"",'様式 '!T19) | I64: =IF('様式 '!U19=0,"",'様式 '!U19) | K64: 財源 | L64: ='様式 '!AG19 -> 0
E65: ='様式 '!O19 -> 0 | F65: =IF('様式 '!W19=0,"",'様式 '!W19) | G65: =IF(F65="","","～") | H65: =IF('様式 '!X19=0,"",'様式 '!X19) | I65: =IF('様式 '!Y19=0,"",'様式 '!Y19) | K65: 目的 | L65: ='様式 '!AH19 -> 0
B66: ='様式 '!M19 -> 0 | F66: =IF('様式 '!AA19=0,"",'様式 '!AA19) | G66: =IF(F66="","","～") | H66: =IF('様式 '!AB19=0,"",'様式 '!AB19) | I66: =IF('様式 '!AC19=0,"",'様式 '!AC19) | K66: 所管 | L66: ='様式 '!AI19 -> 0
D67: ='様式 '!C19 -> 0 | F67: （週 | G67: =IF('様式 '!R19=0,"",'様式 '!R19) | I67: 日勤務） | K67: P.C. | L67: ='様式 '!AJ19 -> 0
A68: 10 | B68: 職 名 | F68: ='様式 '!P20 -> 0 | J68: ='様式 '!AE20 -> 0 | K68: 経費区分 | M68: ='様式 '!AK20 -> 0
B69: ='様式 '!H20 -> 0 | D69: ='様式 '!E20 -> 0 | E69: ='様式 '!N20 -> 0 | K69: ='様式 '!AF20 -> 0
B70: 特例対象者 | C70: =IF('様式 '!I20="",FALSE,TRUE) -> FALSE | D70: ='様式 '!D20 -> 0 | F70: =IF(F68="フルタイム職員","",IF(F68=0,"","（週"&'様式 '!Q20&"時間）"))
B71: ='様式 '!L20 -> 0 | E71: ～ | F71: =IF('様式 '!S20=0,"",'様式 '!S20) | G71: ～ | H71: =IF('様式 '!T20=0,"",'様式 '!T20) | I71: =IF('様式 '!U20=0,"",'様式 '!U20) | K71: 財源 | L71: ='様式 '!AG20 -> 0
E72: ='様式 '!O20 -> 0 | F72: =IF('様式 '!W20=0,"",'様式 '!W20) | G72: =IF(F72="","","～") | H72: =IF('様式 '!X20=0,"",'様式 '!X20) | I72: =IF('様式 '!Y20=0,"",'様式 '!Y20) | K72: 目的 | L72: ='様式 '!AH20 -> 0
B73: ='様式 '!M20 -> 0 | F73: =IF('様式 '!AA20=0,"",'様式 '!AA20) | G73: =IF(F73="","","～") | H73: =IF('様式 '!AB20=0,"",'様式 '!AB20) | I73: =IF('様式 '!AC20=0,"",'様式 '!AC20) | K73: 所管 | L73: ='様式 '!AI20 -> 0
D74: ='様式 '!C20 -> 0 | F74: （週 | G74: =IF('様式 '!R20=0,"",'様式 '!R20) | I74: 日勤務） | K74: P.C. | L74: ='様式 '!AJ20 -> 0
A75: 11 | B75: 職 名 | F75: ='様式 '!P21 -> 0 | J75: ='様式 '!AE21 -> 0 | K75: 経費区分 | M75: ='様式 '!AK21 -> 0
B76: ='様式 '!H21 -> 0 | D76: ='様式 '!E21 -> 0 | E76: ='様式 '!N21 -> 0 | K76: ='様式 '!AF21 -> 0
B77: 特例対象者 | C77: =IF('様式 '!I21="",FALSE,TRUE) -> FALSE | D77: ='様式 '!D21 -> 0 | F77: =IF(F75="フルタイム職員","",IF(F75=0,"","（週"&'様式 '!Q21&"時間）"))
B78: ='様式 '!L21 -> 0 | E78: ～ | F78: =IF('様式 '!S21=0,"",'様式 '!S21) | G78: ～ | H78: =IF('様式 '!T21=0,"",'様式 '!T21) | I78: =IF('様式 '!U21=0,"",'様式 '!U21) | K78: 財源 | L78: ='様式 '!AG21 -> 0
E79: ='様式 '!O21 -> 0 | F79: =IF('様式 '!W21=0,"",'様式 '!W21) | G79: =IF(F79="","","～") | H79: =IF('様式 '!X21=0,"",'様式 '!X21) | I79: =IF('様式 '!Y21=0,"",'様式 '!Y21) | K79: 目的 | L79: ='様式 '!AH21 -> 0
B80: ='様式 '!M21 -> 0 | F80: =IF('様式 '!AA21=0,"",'様式 '!AA21) | G80: =IF(F80="","","～") | H80: =IF('様式 '!AB21=0,"",'様式 '!AB21) | I80: =IF('様式 '!AC21=0,"",'様式 '!AC21) | K80: 所管 | L80: ='様式 '!AI21 -> 0
D81: ='様式 '!C21 -> 0 | F81: （週 | G81: =IF('様式 '!R21=0,"",'様式 '!R21) | I81: 日勤務） | K81: P.C. | L81: ='様式 '!AJ21 -> 0
A82: 12 | B82: 職 名 | F82: ='様式 '!P22 -> 0 | J82: ='様式 '!AE22 -> 0 | K82: 経費区分 | M82: ='様式 '!AK22 -> 0
B83: ='様式 '!H22 -> 0 | D83: ='様式 '!E22 -> 0 | E83: ='様式 '!N22 -> 0 | K83: ='様式 '!AF22 -> 0
B84: 特例対象者 | C84: =IF('様式 '!I22="",FALSE,TRUE) -> FALSE | D84: ='様式 '!D22 -> 0 | F84: =IF(F82="フルタイム職員","",IF(F82=0,"","（週"&'様式 '!Q22&"時間）"))
B85: ='様式 '!L22 -> 0 | E85: ～ | F85: =IF('様式 '!S22=0,"",'様式 '!S22) | G85: ～ | H85: =IF('様式 '!T22=0,"",'様式 '!T22) | I85: =IF('様式 '!U22=0,"",'様式 '!U22) | K85: 財源 | L85: ='様式 '!AG22 -> 0
E86: ='様式 '!O22 -> 0 | F86: =IF('様式 '!W22=0,"",'様式 '!W22) | G86: =IF(F86="","","～") | H86: =IF('様式 '!X22=0,"",'様式 '!X22) | I86: =IF('様式 '!Y22=0,"",'様式 '!Y22) | K86: 目的 | L86: ='様式 '!AH22 -> 0
B87: ='様式 '!M22 -> 0 | F87: =IF('様式 '!AA22=0,"",'様式 '!AA22) | G87: =IF(F87="","","～") | H87: =IF('様式 '!AB22=0,"",'様式 '!AB22) | I87: =IF('様式 '!AC22=0,"",'様式 '!AC22) | K87: 所管 | L87: ='様式 '!AI22 -> 0
D88: ='様式 '!C22 -> 0 | F88: （週 | G88: =IF('様式 '!R22=0,"",'様式 '!R22) | I88: 日勤務） | K88: P.C. | L88: ='様式 '!AJ22 -> 0
A89: 13 | B89: 職 名 | F89: ='様式 '!P23 -> 0 | J89: ='様式 '!AE23 -> 0 | K89: 経費区分 | M89: ='様式 '!AK23 -> 0
B90: ='様式 '!H23 -> 0 | D90: ='様式 '!E23 -> 0 | E90: ='様式 '!N23 -> 0 | K90: ='様式 '!AF23 -> 0
B91: 特例対象者 | C91: =IF('様式 '!I23="",FALSE,TRUE) -> FALSE | D91: ='様式 '!D23 -> 0 | F91: =IF(F89="フルタイム職員","",IF(F89=0,"","（週"&'様式 '!Q23&"時間）"))
B92: ='様式 '!L23 -> 0 | E92: ～ | F92: =IF('様式 '!S23=0,"",'様式 '!S23) | G92: ～ | H92: =IF('様式 '!T23=0,"",'様式 '!T23) | I92: =IF('様式 '!U23=0,"",'様式 '!U23) | K92: 財源 | L92: ='様式 '!AG23 -> 0
E93: ='様式 '!O23 -> 0 | F93: =IF('様式 '!W23=0,"",'様式 '!W23) | G93: =IF(F93="","","～") | H93: =IF('様式 '!X23=0,"",'様式 '!X23) | I93: =IF('様式 '!Y23=0,"",'様式 '!Y23) | K93: 目的 | L93: ='様式 '!AH23 -> 0
B94: ='様式 '!M23 -> 0 | F94: =IF('様式 '!AA23=0,"",'様式 '!AA23) | G94: =IF(F94="","","～") | H94: =IF('様式 '!AB23=0,"",'様式 '!AB23) | I94: =IF('様式 '!AC23=0,"",'様式 '!AC23) | K94: 所管 | L94: ='様式 '!AI23 -> 0
D95: ='様式 '!C23 -> 0 | F95: （週 | G95: =IF('様式 '!R23=0,"",'様式 '!R23) | I95: 日勤務） | K95: P.C. | L95: ='様式 '!AJ23 -> 0
A96: 14 | B96: 職 名 | F96: ='様式 '!P24 -> 0 | J96: ='様式 '!AE24 -> 0 | K96: 経費区分 | M96: ='様式 '!AK24 -> 0
B97: ='様式 '!H24 -> 0 | D97: ='様式 '!E24 -> 0 | E97: ='様式 '!N24 -> 0 | K97: ='様式 '!AF24 -> 0
B98: 特例対象者 | C98: =IF('様式 '!I24="",FALSE,TRUE) -> FALSE | D98: ='様式 '!D24 -> 0 | F98: =IF(F96="フルタイム職員","",IF(F96=0,"","（週"&'様式 '!Q24&"時間）"))
B99: ='様式 '!L24 -> 0 | E99: ～ | F99: =IF('様式 '!S24=0,"",'様式 '!S24) | G99: ～ | H99: =IF('様式 '!T24=0,"",'様式 '!T24) | I99: =IF('様式 '!U24=0,"",'様式 '!U24) | K99: 財源 | L99: ='様式 '!AG24 -> 0
E100: ='様式 '!O24 -> 0 | F100: =IF('様式 '!W24=0,"",'様式 '!W24) | G100: =IF(F100="","","～") | H100: =IF('様式 '!X24=0,"",'様式 '!X24) | I100: =IF('様式 '!Y24=0,"",'様式 '!Y24) | K100: 目的 | L100: ='様式 '!AH24 -> 0
B101: ='様式 '!M24 -> 0 | F101: =IF('様式 '!AA24=0,"",'様式 '!AA24) | G101: =IF(F101="","","～") | H101: =IF('様式 '!AB24=0,"",'様式 '!AB24) | I101: =IF('様式 '!AC24=0,"",'様式 '!AC24) | K101: 所管 | L101: ='様式 '!AI24 -> 0
...

Sheet 入力リスト用シート
A1: 新規/継続 | B1: 性別 | C1: 職名 | D1: 特例法対象者 | E1: 身分 | F1: 国籍 | G1: 勤務形態（フル/パート） | H1: 勤務曜日 | I1: 休憩時間 | J1: 雇用更新見込み | K1: 財源
A3: 新規 | B3: 男 | C3: 事務補佐員 | D3: 対象 | E3: 本学学生 | F3: 日本 | G3: フルタイム職員 | H3: 月～金 | I3: 60 | J3: 有り | K3: 大学運営費
A4: 継続 | B4: 女 | C4: 技術補佐員 | E4: 本学以外の学生 | F4: 外国 | G4: パートタイム職員 | I4: 45 | J4: 無し | K4: 大学運営費_戦略的重点配分経費
C5: 技能補佐員 | I5: 30 | K5: 委任経理金_寄附金
C6: 技能補佐員_部活動指導員 | I6: なし | K6: 産学連携等研究経費_受託事業
C7: 臨時用務員 | K7: 産学連携等研究経費_受託研究
C8: 研究活動等支援員 | K8: 産学連携等研究経費_共同研究
C9: 産学官連携研究員 | K9: 科研費補助金_直接
C10: 科研費研究員 | K10: 科研費補助金_間接
C11: ポスドク研究員 | K11: その他の補助金
