Workbook

Sheet 意向調書フォーム
A1: 意 向 調 書
A2: 職員番号 | P2: 基準日： | Q2: 45992
A3: 所属 | B3: 部局 | H3: 氏名（漢字） | L3: 氏名（ふりがな）
B4: 課
B5: 室 | H5: 生年月日 | M5: 年 齢
B6: 係(教室) | M6: =IF(H6=0,"",DATEDIF(H6,Q2,"Y")&"才")
A8: 現住所 | B8: 郵便番号 | I8: TEL
B9: {=_xlfn.XLOOKUP(D8,郵便番号マスタ!A:A,IF(郵便番号マスタ!H:H="","",郵便番号マスタ!H:H))}
A11: 現職 | B11: 職 名 | G11: 現職発令年月日 | L11: 現職在職年月
L12: =IF(G12=0,"",DATEDIF(G12,Q2,"Y")&"年"&DATEDIF(G12,Q2,"YM")&"ヶ月")
A14: 学 歴 | B14: 卒業等年月日 | E14: 学校名（学部・学科等） | P14: 卒業・修了
E15: （高校） | P15: 卒業
P16: 卒業
A19: 試 験
A21: 経 歴 | B21: 年月日 | D21: 職名 | F21: 部局・課・室・係等名 | K21: 年月日 | M21: 職名 | O21: 部局・課・室・係等名
A35: 資格等 | B35: 語学等 | C35: 語学の種類（5段階評価） | K35: 英検・TOEIC等の資格・スコア・留学経験等
C36: 英 語 | E36: 他の 外国語 | F36: 1
F37: 2
B38: 簿 記 | E38: 級 | J38: 衛生管理者 | O38: 種
B39: その他
A41: 研修歴 | B41: 期 間 | H41: 研 修 名 称
A49: 異動希望 | E49: 第 1 | J49: 第 2 | O49: 第 3
B50: 大学本部・学部等
B51: 職 務
B52: 理 由
A54: 他機関との人事交流
A55: 県 内 | K55: 県 外
A56: 1.国立沖縄工業高等専門学校 | K56: 1.文部科学省（行政実務研修）
A57: 2.国立沖縄青少年交流の家 | K57: 2.大学改革支援・学位授与機構
A58: 3.西表研究施設（熱帯生物圏研究センター） | K58: 3.国立大学協会
A59: ※沖縄高専、沖縄青少年交流の家については、課長代理級 （昇任含む）の出向者も求めています。 | K59: 4.日本学術振興会（国際学術交流研修）
K60: 5.その他
A61: （具体的な年数や理由等を記入）
A64: 早期昇任希望（上位職への早期昇任希望について） | K64: 民間等への転出等退職予定
B65: 1.希望する | L65: 1.無
B66: 2.希望しない | L66: 2.有
B67: 3.現時点では希望しない
A69: 健康状況 | C69: 1.健康 | H69: 2.やや不健康 | N69: 3.不健康
C70: （2、3の場合の状況）
A72: 家庭状況等 | B72: 続 柄 | D72: 氏 名 | I72: 年 齢 | K72: 職業・学年等 | P72: 健康状況 | R72: 同居・別居
B79: 緊急連絡先（本人以外） | G79: （電話番号） | M79: 自宅 | O79: その他
B80: 本学職員に３親等以内の親族がいる場合は、当該職員の続柄、氏名及び所属部局名を記人して下さい。
A83: 特記事項
A85: ※備考

Sheet 郵便番号マスタ
A1: 9000000 | B1: ｵｷﾅﾜｹﾝ | C1: ﾅﾊｼ | E1: 沖縄県 | F1: 那覇市 | H1: =E1&F1&G1 -> 沖縄県那覇市 | K1: 参照元（日本郵便HP）
A2: 9010154 | B2: ｵｷﾅﾜｹﾝ | C2: ﾅﾊｼ | D2: ｱｶﾐﾈ | E2: 沖縄県 | F2: 那覇市 | G2: 赤嶺 | H2: =E2&F2&G2 -> 沖縄県那覇市赤嶺 | K2: https://www.post.japanpost.jp/zipcode/download.html
A3: 9000002 | B3: ｵｷﾅﾜｹﾝ | C3: ﾅﾊｼ | D3: ｱｹﾎﾞﾉ | E3: 沖縄県 | F3: 那覇市 | G3: 曙 | H3: =E3&F3&G3 -> 沖縄県那覇市曙
A4: 9020067 | B4: ｵｷﾅﾜｹﾝ | C4: ﾅﾊｼ | D4: ｱｻﾄ | E4: 沖縄県 | F4: 那覇市 | G4: 安里 | H4: =E4&F4&G4 -> 沖縄県那覇市安里
A5: 9000029 | B5: ｵｷﾅﾜｹﾝ | C5: ﾅﾊｼ | D5: ｱｻﾋﾏﾁ | E5: 沖縄県 | F5: 那覇市 | G5: 旭町 | H5: =E5&F5&G5 -> 沖縄県那覇市旭町
A6: 9010143 | B6: ｵｷﾅﾜｹﾝ | C6: ﾅﾊｼ | D6: ｱｼﾐﾈ | E6: 沖縄県 | F6: 那覇市 | G6: 安次嶺 | H6: =E6&F6&G6 -> 沖縄県那覇市安次嶺
A7: 9000003 | B7: ｵｷﾅﾜｹﾝ | C7: ﾅﾊｼ | D7: ｱｼﾞﾔ | E7: 沖縄県 | F7: 那覇市 | G7: 安謝 | H7: =E7&F7&G7 -> 沖縄県那覇市安謝
A8: 9000005 | B8: ｵｷﾅﾜｹﾝ | C8: ﾅﾊｼ | D8: ｱﾒｸ | E8: 沖縄県 | F8: 那覇市 | G8: 天久 | H8: =E8&F8&G8 -> 沖縄県那覇市天久
A9: 9000021 | B9: ｵｷﾅﾜｹﾝ | C9: ﾅﾊｼ | D9: ｲｽﾞﾐｻﾞｷ | E9: 沖縄県 | F9: 那覇市 | G9: 泉崎 | H9: =E9&F9&G9 -> 沖縄県那覇市泉崎
A10: 9000011 | B10: ｵｷﾅﾜｹﾝ | C10: ﾅﾊｼ | D10: ｳｴﾉﾔ | E10: 沖縄県 | F10: 那覇市 | G10: 上之屋 | H10: =E10&F10&G10 -> 沖縄県那覇市上之屋
A11: 9010153 | B11: ｵｷﾅﾜｹﾝ | C11: ﾅﾊｼ | D11: ｳｴﾊﾞﾙ | E11: 沖縄県 | F11: 那覇市 | G11: 宇栄原 | H11: =E11&F11&G11 -> 沖縄県那覇市宇栄原
A12: 9020073 | B12: ｵｷﾅﾜｹﾝ | C12: ﾅﾊｼ | D12: ｳｴﾏ | E12: 沖縄県 | F12: 那覇市 | G12: 上間 | H12: =E12&F12&G12 -> 沖縄県那覇市上間
A13: 9000026 | B13: ｵｷﾅﾜｹﾝ | C13: ﾅﾊｼ | D13: ｵｵﾉﾔﾏﾁﾖｳ | E13: 沖縄県 | F13: 那覇市 | G13: 奥武山町 | H13: =E13&F13&G13 -> 沖縄県那覇市奥武山町
A14: 9010148 | B14: ｵｷﾅﾜｹﾝ | C14: ﾅﾊｼ | D14: ｵｵﾐﾈ | E14: 沖縄県 | F14: 那覇市 | G14: 大嶺 | H14: =E14&F14&G14 -> 沖縄県那覇市大嶺
... A79: 9000031 | B79: ｵｷﾅﾜｹﾝ | C79: ﾅﾊｼ | D79: ﾜｶｻ | E79: 沖縄県 | F79: 那覇市 | G79: 若狭 | H79: =E79&F79&G79 -> 沖縄県那覇市若狭
A80: 9012200 | B80: ｵｷﾅﾜｹﾝ | C80: ｷﾞﾉﾜﾝｼ | E80: 沖縄県 | F80: 宜野湾市 | H80: =E80&F80&G80 -> 沖縄県宜野湾市
A81: 9012206 | B81: ｵｷﾅﾜｹﾝ | C81: ｷﾞﾉﾜﾝｼ | D81: ｱｲﾁ | E81: 沖縄県 | F81: 宜野湾市 | G81: 愛知 | H81: =E81&F81&G81 -> 沖縄県宜野湾市愛知
A82: 9012205 | B82: ｵｷﾅﾜｹﾝ | C82: ｷﾞﾉﾜﾝｼ | D82: ｱｶﾐﾁ | E82: 沖縄県 | F82: 宜野湾市 | G82: 赤道 | H82: =E82&F82&G82 -> 沖縄県宜野湾市赤道
A83: 9012201 | B83: ｵｷﾅﾜｹﾝ | C83: ｷﾞﾉﾜﾝｼ | D83: ｱﾗｸﾞｽｸ | E83: 沖縄県 | F83: 宜野湾市 | G83: 新城 | H83: =E83&F83&G83 -> 沖縄県宜野湾市新城
A84: 9012221 | B84: ｵｷﾅﾜｹﾝ | C84: ｷﾞﾉﾜﾝｼ | D84: ｲｻ | E84: 沖縄県 | F84: 宜野湾市 | G84: 伊佐 | H84: =E84&F84&G84 -> 沖縄県宜野湾市伊佐
A85: 9012204 | B85: ｵｷﾅﾜｹﾝ | C85: ｷﾞﾉﾜﾝｼ | D85: ｳｴﾊﾗ | E85: 沖縄県 | F85: 宜野湾市 | G85: 上原 | H85: =E85&F85&G85 -> 沖縄県宜野湾市上原
A86: 9012227 | B86: ｵｷﾅﾜｹﾝ | C86: ｷﾞﾉﾜﾝｼ | D86: ｳﾁﾄﾞﾏﾘ | E86: 沖縄県 | F86: 宜野湾市 | G86: 宇地泊 | H86: =E86&F86&G86 -> 沖縄県宜野湾市宇地泊
A87: 9012225 | B87: ｵｷﾅﾜｹﾝ | C87: ｷﾞﾉﾜﾝｼ | D87: ｵｵｼﾞﾔﾅ | E87: 沖縄県 | F87: 宜野湾市 | G87: 大謝名 | H87: =E87&F87&G87 -> 沖縄県宜野湾市大謝名
A88: 9012223 | B88: ｵｷﾅﾜｹﾝ | C88: ｷﾞﾉﾜﾝｼ | D88: ｵｵﾔﾏ | E88: 沖縄県 | F88: 宜野湾市 | G88: 大山 | H88: =E88&F88&G88 -> 沖縄県宜野湾市大山
A89: 9012226 | B89: ｵｷﾅﾜｹﾝ | C89: ｷﾞﾉﾜﾝｼ | D89: ｶｶｽﾞ | E89: 沖縄県 | F89: 宜野湾市 | G89: 嘉数 | H89: =E89&F89&G89 -> 沖縄県宜野湾市嘉数
A90: 9012214 | B90: ｵｷﾅﾜｹﾝ | C90: ｷﾞﾉﾜﾝｼ | D90: ｶﾞﾈｺ | E90: 沖縄県 | F90: 宜野湾市 | G90: 我如古 | H90: =E90&F90&G90 -> 沖縄県宜野湾市我如古
A91: 9012207 | B91: ｵｷﾅﾜｹﾝ | C91: ｷﾞﾉﾜﾝｼ | D91: ｶﾐﾔﾏ | E91: 沖縄県 | F91: 宜野湾市 | G91: 神山 | H91: =E91&F91&G91 -> 沖縄県宜野湾市神山
A92: 9012211 | B92: ｵｷﾅﾜｹﾝ | C92: ｷﾞﾉﾜﾝｼ | D92: ｷﾞﾉﾜﾝ | E92: 沖縄県 | F92: 宜野湾市 | G92: 宜野湾 | H92: =E92&F92&G92 -> 沖縄県宜野湾市宜野湾
... A100: 9012224 | B100: ｵｷﾅﾜｹﾝ | C100: ｷﾞﾉﾜﾝｼ | D100: ﾏｼｷ | E100: 沖縄県 | F100: 宜野湾市 | G100: 真志喜 | H100: =E100&F100&G100 -> 沖縄県宜野湾市真志喜
A101: 9070000 | B101: ｵｷﾅﾜｹﾝ | C101: ｲｼｶﾞｷｼ | E101: 沖縄県 | F101: 石垣市 | H101: =E101&F101&G101 -> 沖縄県石垣市
A102: 9070024 | B102: ｵｷﾅﾜｹﾝ | C102: ｲｼｶﾞｷｼ | D102: ｱﾗｶﾜ | E102: 沖縄県 | F102: 石垣市 | G102: 新川 | H102: =E102&F102&G102 -> 沖縄県石垣市新川
A103: 9070023 | B103: ｵｷﾅﾜｹﾝ | C103: ｲｼｶﾞｷｼ | D103: ｲｼｶﾞｷ | E103: 沖縄県 | F103: 石垣市 | G103: 石垣 | H103: =E103&F103&G103 -> 沖縄県石垣市石垣
A104: 9070332 | B104: ｵｷﾅﾜｹﾝ | C104: ｲｼｶﾞｷｼ | D104: ｲﾊﾞﾙﾏ | E104: 沖縄県 | F104: 石垣市 | G104: 伊原間 | H104: =E104&F104&G104 -> 沖縄県石垣市伊原間
A105: 9070022 | B105: ｵｷﾅﾜｹﾝ | C105: ｲｼｶﾞｷｼ | D105: ｵｵｶﾜ | E105: 沖縄県 | F105: 石垣市 | G105: 大川 | H105: =E105&F105&G105 -> 沖縄県石垣市大川
A106: 9070001 | B106: ｵｷﾅﾜｹﾝ | C106: ｲｼｶﾞｷｼ | D106: ｵｵﾊﾏ | E106: 沖縄県 | F106: 石垣市 | G106: 大浜 | H106: =E106&F106&G106 -> 沖縄県石垣市大浜
A107: 9070453 | B107: ｵｷﾅﾜｹﾝ | C107: ｲｼｶﾞｷｼ | D107: ｶﾋﾞﾗ | E107: 沖縄県 | F107: 石垣市 | G107: 川平 | H107: =E107&F107&G107 -> 沖縄県石垣市川平
A108: 9070452 | B108: ｵｷﾅﾜｹﾝ | C108: ｲｼｶﾞｷｼ | D108: ｻｷｴﾀﾞ | E108: 沖縄県 | F108: 石垣市 | G108: 崎枝 | H108: =E108&F108&G108 -> 沖縄県石垣市崎枝
A109: 9070242 | B109: ｵｷﾅﾜｹﾝ | C109: ｲｼｶﾞｷｼ | D109: ｼﾗﾎ | E109: 沖縄県 | F109: 石垣市 | G109: 白保 | H109: =E109&F109&G109 -> 沖縄県石垣市白保
A110: 9070014 | B110: ｵｷﾅﾜｹﾝ | C110: ｲｼｶﾞｷｼ | D110: ｼﾝｴｲﾁﾖｳ | E110: 沖縄県 | F110: 石垣市 | G110: 新栄町 | H110: =E110&F110&G110 -> 沖縄県石垣市新栄町
A111: 9070241 | B111: ｵｷﾅﾜｹﾝ | C111: ｲｼｶﾞｷｼ | D111: ﾄｳｻﾞﾄ | E111: 沖縄県 | F111: 石垣市 | G111: 桃里 | H111: =E111&F111&G111 -> 沖縄県石垣市桃里
A112: 9070004 | B112: ｵｷﾅﾜｹﾝ | C112: ｲｼｶﾞｷｼ | D112: ﾄﾉｼﾛ | E112: 沖縄県 | F112: 石垣市 | G112: 登野城 | H112: =E112&F112&G112 -> 沖縄県石垣市登野城
A113: 9070031 | B113: ｵｷﾅﾜｹﾝ | C113: ｲｼｶﾞｷｼ | D113: ﾄﾉｼﾛｾﾝｶｸ | E113: 沖縄県 | F113: 石垣市 | G113: 登野城尖閣 | H113: =E113&F113&G113 -> 沖縄県石垣市登野城尖閣
... A125: 9070011 | B125: ｵｷﾅﾜｹﾝ | C125: ｲｼｶﾞｷｼ | D125: ﾔｼﾏﾁﾖｳ | E125: 沖縄県 | F125: 石垣市 | G125: 八島町 | H125: =E125&F125&G125 -> 沖縄県石垣市八島町
A126: 9012100 | B126: ｵｷﾅﾜｹﾝ | C126: ｳﾗｿｴｼ | E126: 沖縄県 | F126: 浦添市 | H126: =E126&F126&G126 -> 沖縄県浦添市
A127: 9012114 | B127: ｵｷﾅﾜｹﾝ | C127: ｳﾗｿｴｼ | D127: ｱﾊﾁﾔ | E127: 沖縄県 | F127: 浦添市 | G127: 安波茶 | H127: =E127&F127&G127 -> 沖縄県浦添市安波茶
A128: 9012132 | B128: ｵｷﾅﾜｹﾝ | C128: ｳﾗｿｴｼ | D128: ｲｿ | E128: 沖縄県 | F128: 浦添市 | G128: 伊祖 | H128: =E128&F128&G128 -> 沖縄県浦添市伊祖
A129: 9012128 | B129: ｵｷﾅﾜｹﾝ | C129: ｳﾗｿｴｼ | D129: ｲﾅﾝｾ | E129: 沖縄県 | F129: 浦添市 | G129: 伊奈武瀬 | H129: =E129&F129&G129 -> 沖縄県浦添市伊奈武瀬
A130: 9012123 | B130: ｵｷﾅﾜｹﾝ | C130: ｳﾗｿｴｼ | D130: ｲﾘｼﾞﾏ | E130: 沖縄県 | F130: 浦添市 | G130: 西洲 | H130: =E130&F130&G130 -> 沖縄県浦添市西洲
A131: 9012121 | B131: ｵｷﾅﾜｹﾝ | C131: ｳﾗｿｴｼ | D131: ｳﾁﾏ | E131: 沖縄県 | F131: 浦添市 | G131: 内間 | H131: =E131&F131&G131 -> 沖縄県浦添市内間
A132: 9012113 | B132: ｵｷﾅﾜｹﾝ | C132: ｳﾗｿｴｼ | D132: ｵｵﾋﾗ | E132: 沖縄県 | F132: 浦添市 | G132: 大平 | H132: =E132&F132&G132 -> 沖縄県浦添市大平
A133: 9012111 | B133: ｵｷﾅﾜｹﾝ | C133: ｳﾗｿｴｼ | D133: ｷﾖｳﾂﾞｶ | E133: 沖縄県 | F133: 浦添市 | G133: 経塚 | H133: =E133&F133&G133 -> 沖縄県浦添市経塚
A134: 9012133 | B134: ｵｷﾅﾜｹﾝ | C134: ｳﾗｿｴｼ | D134: ｸﾞｽｸﾏ | E134: 沖縄県 | F134: 浦添市 | G134: 城間 | H134: =E134&F134&G134 -> 沖縄県浦添市城間
A135: 9012124 | B135: ｵｷﾅﾜｹﾝ | C135: ｳﾗｿｴｼ | D135: ｺﾜﾝ | E135: 沖縄県 | F135: 浦添市 | G135: 小湾 | H135: =E135&F135&G135 -> 沖縄県浦添市小湾
A136: 9012122 | B136: ｵｷﾅﾜｹﾝ | C136: ｳﾗｿｴｼ | D136: ｼﾞﾂﾁﾔｸ | E136: 沖縄県 | F136: 浦添市 | G136: 勢理客 | H136: =E136&F136&G136 -> 沖縄県浦添市勢理客
A137: 9012112 | B137: ｵｷﾅﾜｹﾝ | C137: ｳﾗｿｴｼ | D137: ﾀｸｼ | E137: 沖縄県 | F137: 浦添市 | G137: 沢岻 | H137: =E137&F137&G137 -> 沖縄県浦添市沢岻
A138: 9012104 | B138: ｵｷﾅﾜｹﾝ | C138: ｳﾗｿｴｼ | D138: ﾄｳﾔﾏ | E138: 沖縄県 | F138: 浦添市 | G138: 当山 | H138: =E138&F138&G138 -> 沖縄県浦添市当山
... A146: 9012127 | B146: ｵｷﾅﾜｹﾝ | C146: ｳﾗｿｴｼ | D146: ﾔﾌｿ | E146: 沖縄県 | F146: 浦添市 | G146: 屋富祖 | H146: =E146&F146&G146 -> 沖縄県浦添市屋富祖
A147: 9050000 | B147: ｵｷﾅﾜｹﾝ | C147: ﾅｺﾞｼ | E147: 沖縄県 | F147: 名護市 | H147: =E147&F147&G147 -> 沖縄県名護市
A148: 9050021 | B148: ｵｷﾅﾜｹﾝ | C148: ﾅｺﾞｼ | D148: ｱｶﾞﾘｴ | E148: 沖縄県 | F148: 名護市 | G148: 東江 | H148: =E148&F148&G148 -> 沖縄県名護市東江
A149: 9050003 | B149: ｵｷﾅﾜｹﾝ | C149: ﾅｺﾞｼ | D149: ｱｻﾋｶﾜ | E149: 沖縄県 | F149: 名護市 | G149: 旭川 | H149: =E149&F149&G149 -> 沖縄県名護市旭川
A150: 9052263 | B150: ｵｷﾅﾜｹﾝ | C150: ﾅｺﾞｼ | D150: ｱﾌﾞ | E150: 沖縄県 | F150: 名護市 | G150: 安部 | H150: =E150&F150&G150 -> 沖縄県名護市安部
A151: 9050001 | B151: ｵｷﾅﾜｹﾝ | C151: ﾅｺﾞｼ | D151: ｱﾜ | E151: 沖縄県 | F151: 名護市 | G151: 安和 | H151: =E151&F151&G151 -> 沖縄県名護市安和
A152: 9051152 | B152: ｵｷﾅﾜｹﾝ | C152: ﾅｺﾞｼ | D152: ｲｻｶﾞﾜ | E152: 沖縄県 | F152: 名護市 | G152: 伊差川 | H152: =E152&F152&G152 -> 沖縄県名護市伊差川
A153: 9051142 | B153: ｵｷﾅﾜｹﾝ | C153: ﾅｺﾞｼ | D153: ｲﾅﾐﾈ | E153: 沖縄県 | F153: 名護市 | G153: 稲嶺 | H153: =E153&F153&G153 -> 沖縄県名護市稲嶺
A154: 9050006 | B154: ｵｷﾅﾜｹﾝ | C154: ﾅｺﾞｼ | D154: ｳﾑｻ | E154: 沖縄県 | F154: 名護市 | G154: 宇茂佐 | H154: =E154&F154&G154 -> 沖縄県名護市宇茂佐
A155: 9050009 | B155: ｵｷﾅﾜｹﾝ | C155: ﾅｺﾞｼ | D155: ｳﾑｻﾉﾓﾘ | E155: 沖縄県 | F155: 名護市 | G155: 宇茂佐の森 | H155: =E155&F155&G155 -> 沖縄県名護市宇茂佐の森
A156: 9051634 | B156: ｵｷﾅﾜｹﾝ | C156: ﾅｺﾞｼ | D156: ｳﾝﾃﾝﾊﾞﾙ | E156: 沖縄県 | F156: 名護市 | G156: 運天原 | H156: =E156&F156&G156 -> 沖縄県名護市運天原
A157: 9052267 | B157: ｵｷﾅﾜｹﾝ | C157: ﾅｺﾞｼ | D157: ｵｵｳﾗ | E157: 沖縄県 | F157: 名護市 | G157: 大浦 | H157: =E157&F157&G157 -> 沖縄県名護市大浦
A158: 9052268 | B158: ｵｷﾅﾜｹﾝ | C158: ﾅｺﾞｼ | D158: ｵｵｶﾜ | E158: 沖縄県 | F158: 名護市 | G158: 大川 | H158: =E158&F158&G158 -> 沖縄県名護市大川
A159: 9050019 | B159: ｵｷﾅﾜｹﾝ | C159: ﾅｺﾞｼ | D159: ｵｵｷﾀ | E159: 沖縄県 | F159: 名護市 | G159: 大北 | H159: =E159&F159&G159 -> 沖縄県名護市大北
... A201: 9051632 | B201: ｵｷﾅﾜｹﾝ | C201: ﾅｺﾞｼ | D201: ﾖﾍﾅ | E201: 沖縄県 | F201: 名護市 | G201: 饒平名 | H201: =E201&F201&G201 -> 沖縄県名護市饒平名
A202: 9010300 | B202: ｵｷﾅﾜｹﾝ | C202: ｲﾄﾏﾝｼ | E202: 沖縄県 | F202: 糸満市 | H202: =E202&F202&G202 -> 沖縄県糸満市
A203: 9010301 | B203: ｵｷﾅﾜｹﾝ | C203: ｲﾄﾏﾝｼ | D203: ｱﾊｺﾞﾝ | E203: 沖縄県 | F203: 糸満市 | G203: 阿波根 | H203: =E203&F203&G203 -> 沖縄県糸満市阿波根
A204: 9010323 | B204: ｵｷﾅﾜｹﾝ | C204: ｲﾄﾏﾝｼ | D204: ｱﾗｶｷ | E204: 沖縄県 | F204: 糸満市 | G204: 新垣 | H204: =E204&F204&G204 -> 沖縄県糸満市新垣
A205: 9010363 | B205: ｵｷﾅﾜｹﾝ | C205: ｲﾄﾏﾝｼ | D205: ｲｼｷ | E205: 沖縄県 | F205: 糸満市 | G205: 伊敷 | H205: =E205&F205&G205 -> 沖縄県糸満市伊敷
A206: 9010342 | B206: ｵｷﾅﾜｹﾝ | C206: ｲﾄﾏﾝｼ | D206: ｲﾄｽ | E206: 沖縄県 | F206: 糸満市 | G206: 糸洲 | H206: =E206&F206&G206 -> 沖縄県糸満市糸洲
A207: 9010361 | B207: ｵｷﾅﾜｹﾝ | C207: ｲﾄﾏﾝｼ | D207: ｲﾄﾏﾝ | E207: 沖縄県 | F207: 糸満市 | G207: 糸満 | H207: =E207&F207&G207 -> 沖縄県糸満市糸満
A208: 9010344 | B208: ｵｷﾅﾜｹﾝ | C208: ｲﾄﾏﾝｼ | D208: ｲﾊﾗ | E208: 沖縄県 | F208: 糸満市 | G208: 伊原 | H208: =E208&F208&G208 -> 沖縄県糸満市伊原
A209: 9010332 | B209: ｵｷﾅﾜｹﾝ | C209: ｲﾄﾏﾝｼ | D209: ｳｴｸﾞｽｸ | E209: 沖縄県 | F209: 糸満市 | G209: 宇江城 | H209: =E209&F209&G209 -> 沖縄県糸満市宇江城
A210: 9010325 | B210: ｵｷﾅﾜｹﾝ | C210: ｲﾄﾏﾝｼ | D210: ｵｵｻﾞﾄ | E210: 沖縄県 | F210: 糸満市 | G210: 大里 | H210: =E210&F210&G210 -> 沖縄県糸満市大里
A211: 9010334 | B211: ｵｷﾅﾜｹﾝ | C211: ｲﾄﾏﾝｼ | D211: ｵｵﾄﾞ | E211: 沖縄県 | F211: 糸満市 | G211: 大度 | H211: =E211&F211&G211 -> 沖縄県糸満市大度
A212: 9010313 | B212: ｵｷﾅﾜｹﾝ | C212: ｲﾄﾏﾝｼ | D212: ｶｶｽﾞ | E212: 沖縄県 | F212: 糸満市 | G212: 賀数 | H212: =E212&F212&G212 -> 沖縄県糸満市賀数
A213: 9010303 | B213: ｵｷﾅﾜｹﾝ | C213: ｲﾄﾏﾝｼ | D213: ｶﾈｸﾞｽｸ | E213: 沖縄県 | F213: 糸満市 | G213: 兼城 | H213: =E213&F213&G213 -> 沖縄県糸満市兼城
A214: 9010312 | B214: ｵｷﾅﾜｹﾝ | C214: ｲﾄﾏﾝｼ | D214: ｷﾀﾅﾐﾋﾗ | E214: 沖縄県 | F214: 糸満市 | G214: 北波平 | H214: =E214&F214&G214 -> 沖縄県糸満市北波平
... A237: 9010322 | B237: ｵｷﾅﾜｹﾝ | C237: ｲﾄﾏﾝｼ | D237: ﾖｻﾞ | E237: 沖縄県 | F237: 糸満市 | G237: 与座 | H237: =E237&F237&G237 -> 沖縄県糸満市与座
A238: 9040000 | B238: ｵｷﾅﾜｹﾝ | C238: ｵｷﾅﾜｼ | E238: 沖縄県 | F238: 沖縄市 | H238: =E238&F238&G238 -> 沖縄県沖縄市
A239: 9042152 | B239: ｵｷﾅﾜｹﾝ | C239: ｵｷﾅﾜｼ | D239: ｱｹﾐﾁ | E239: 沖縄県 | F239: 沖縄市 | G239: 明道 | H239: =E239&F239&G239 -> 沖縄県沖縄市明道
A240: 9040012 | B240: ｵｷﾅﾜｹﾝ | C240: ｵｷﾅﾜｼ | D240: ｱｹﾞﾀﾞ | E240: 沖縄県 | F240: 沖縄市 | G240: 安慶田 | H240: =E240&F240&G240 -> 沖縄県沖縄市安慶田
A241: 9042172 | B241: ｵｷﾅﾜｹﾝ | C241: ｵｷﾅﾜｼ | D241: ｱﾜｾ | E241: 沖縄県 | F241: 沖縄市 | G241: 泡瀬 | H241: =E241&F241&G241 -> 沖縄県沖縄市泡瀬
A242: 9042141 | B242: ｵｷﾅﾜｹﾝ | C242: ｵｷﾅﾜｼ | D242: ｲｹﾊﾗ | E242: 沖縄県 | F242: 沖縄市 | G242: 池原 | H242: =E242&F242&G242 -> 沖縄県沖縄市池原
A243: 9040031 | B243: ｵｷﾅﾜｹﾝ | C243: ｵｷﾅﾜｼ | D243: ｳｴﾁ | E243: 沖縄県 | F243: 沖縄市 | G243: 上地 | H243: =E243&F243&G243 -> 沖縄県沖縄市上地
A244: 9042163 | B244: ｵｷﾅﾜｹﾝ | C244: ｵｷﾅﾜｼ | D244: ｵｵｻﾞﾄ | E244: 沖縄県 | F244: 沖縄市 | G244: 大里 | H244: =E244&F244&G244 -> 沖縄県沖縄市大里
A245: 9042162 | B245: ｵｷﾅﾜｹﾝ | C245: ｵｷﾅﾜｼ | D245: ｶｲﾎｳ | E245: 沖縄県 | F245: 沖縄市 | G245: 海邦 | H245: =E245&F245&G245 -> 沖縄県沖縄市海邦
A246: 9042162 | B246: ｵｷﾅﾜｹﾝ | C246: ｵｷﾅﾜｼ | D246: ｶｲﾎｳﾁﾖｳ | E246: 沖縄県 | F246: 沖縄市 | G246: 海邦町 | H246: =E246&F246&G246 -> 沖縄県沖縄市海邦町
A247: 9040005 | B247: ｵｷﾅﾜｹﾝ | C247: ｵｷﾅﾜｼ | D247: ｶﾏﾗ | E247: 沖縄県 | F247: 沖縄市 | G247: 嘉間良 | H247: =E247&F247&G247 -> 沖縄県沖縄市嘉間良
A248: 9040023 | B248: ｵｷﾅﾜｹﾝ | C248: ｵｷﾅﾜｼ | D248: ｸﾎﾞﾀ | E248: 沖縄県 | F248: 沖縄市 | G248: 久保田 | H248: =E248&F248&G248 -> 沖縄県沖縄市久保田
A249: 9042145 | B249: ｵｷﾅﾜｹﾝ | C249: ｵｷﾅﾜｼ | D249: ｸﾗｼｷ | E249: 沖縄県 | F249: 沖縄市 | G249: 倉敷 | H249: =E249&F249&G249 -> 沖縄県沖縄市倉敷
A250: 9042161 | B250: ｵｷﾅﾜｹﾝ | C250: ｵｷﾅﾜｼ | D250: ｺｼﾞﾔ | E250: 沖縄県 | F250: 沖縄市 | G250: 古謝 | H250: =E250&F250&G250 -> 沖縄県沖縄市古謝
... A279: 9042174 | B279: ｵｷﾅﾜｹﾝ | C279: ｵｷﾅﾜｼ | D279: ﾖｷﾞ | E279: 沖縄県 | F279: 沖縄市 | G279: 与儀 | H279: =E279&F279&G279 -> 沖縄県沖縄市与儀
A280: 9010200 | B280: ｵｷﾅﾜｹﾝ | C280: ﾄﾐｸﾞｽｸｼ | E280: 沖縄県 | F280: 豊見城市 | H280: =E280&F280&G280 -> 沖縄県豊見城市
...

Sheet 転記データ
A1: 基準日 | B1: 職員番号 | C1: 所属_部局 | D1: 所属_課 | E1: 所属_室 | F1: 所属_係(教室) | G1: ●所属 | H1: 氏名(漢字)_氏 | I1: 氏名(漢字)_名 | J1: ●氏名(漢字) | K1: 氏名(ひらがな)_氏 | L1: 氏名(ひらがな)_名 | M1: ●氏名(ひらがな) | N1: 生年月日 | O1: 年齢 | P1: 現住所_郵便番号 | Q1: 現住所_TEL | R1: 現住所_都道府県・市町村 | S1: 現住所_番地等 | T1: ●現住所(都道府県・市町村&番地等) | U1: 現職_職名 | V1: 現職_現職発令年月日 | W1: 現職_現職在職年月 | X1: 学歴1_卒業等年月日 | Y1: 学歴1_学校名(学部・学科等) | Z1: 学歴1_卒業・修了 | AA1: 学歴1_卒業・修了(その他の場合) | AB1: ●学歴1 | AC1: 学歴2_卒業等年月日 | AD1: 学歴2_学校名(学部・学科等) | AE1: 学歴2_卒業・修了 | AF1: 学歴2_卒業・修了(その他の場合) | AG1: ●学歴2 | AH1: 学歴3_卒業等年月日 | AI1: 学歴3_学校名（学部・学科等) | AJ1: 学歴3_卒業・修了 | AK1: 学歴3_卒業・修了（その他の場合） | AL1: ●学歴3 | AM1: 試験 | AN1: 経歴1_年月日 | AO1: 経歴1_職名 | AP1: 経歴1_部局・課・室・係等名 | AQ1: ●経歴1 | AR1: 経歴2_年月日 | AS1: 経歴2_職名 | AT1: 経歴2_部局・課・室・係等名 | AU1: ●経歴2 | AV1: 経歴3_年月日 | AW1: 経歴3_職名 | AX1: 経歴3_部局・課・室・係等名 | AY1: ●経歴3 | AZ1: 経歴4_年月日 | BA1: 経歴4_職名 | BB1: 経歴4_部局・課・室・係等名 | BC1: ●経歴4 | BD1: 経歴5_年月日 | BE1: 経歴5_職名 | BF1: 経歴5_部局・課・室・係等名 | BG1: ●経歴5 | BH1: 経歴6_年月日 | BI1: 経歴6_職名 | BJ1: 経歴6_部局・課・室・係等名 | BK1: ●経歴6 | BL1: 経歴7_年月日 | BM1: 経歴7_職名 | BN1: 経歴7_部局・課・室・係等名 | BO1: ●経歴7 | BP1: 経歴8_年月日 | BQ1: 経歴8_職名 | BR1: 経歴8_部局・課・室・係等名 | BS1: ●経歴8 | BT1: 経歴9_年月日 | BU1: 経歴9_職名 | BV1: 経歴9_部局・課・室・係等名 | BW1: ●経歴9 | BX1: 経歴10_年月日 | BY1: 経歴10_職名 | BZ1: 経歴10_部局・課・室・係等名 | CA1: ●経歴10 | CB1: 経歴11_年月日 | CC1: 経歴11_職名 | CD1: 経歴11_部局・課・室・係等名 | CE1: ●経歴11 | CF1: 経歴12_年月日 | CG1: 経歴12_職名 | CH1: 経歴12_部局・課・室・係等名 | CI1: ●経歴12 | CJ1: 経歴13_年月日 | CK1: 経歴13_職名 | CL1: 経歴13_部局・課・室・係等名 | CM1: ●経歴13 | CN1: 経歴14_年月日 | CO1: 経歴14_職名 | CP1: 経歴14_部局・課・室・係等名 | CQ1: ●経歴14 | CR1: 経歴15_年月日 | CS1: 経歴15_職名 | CT1: 経歴15_部局・課・室・係等名 | CU1: ●経歴15 | CV1: 経歴16_年月日 | CW1: 経歴16_職名 | CX1: 経歴16_部局・課・室・係等名 | CY1: ●経歴16 | CZ1: 経歴17_年月日 | DA1: 経歴17_職名 | DB1: 経歴17_部局・課・室・係等名 | DC1: ●経歴17 | DD1: 経歴18_年月日 | DE1: 経歴18_職名 | DF1: 経歴18_部局・課・室・係等名 | DG1: ●経歴18 | DH1: 経歴19_年月日 | DI1: 経歴19_職名 | DJ1: 経歴19_部局・課・室・係等名 | DK1: ●経歴19 | DL1: 経歴20_年月日 | DM1: 経歴20_職名 | DN1: 経歴20_部局・課・室・係等名 | DO1: ●経歴20 | DP1: 経歴21_年月日 | DQ1: 経歴21_職名 | DR1: 経歴21_部局・課・室・係等名 | DS1: ●経歴21 | DT1: 経歴22_年月日 | DU1: 経歴22_職名 | DV1: 経歴22_部局・課・室・係等名 | DW1: ●経歴22 | DX1: 経歴23_年月日 | DY1: 経歴23_職名 | DZ1: 経歴23_部局・課・室・係等名 | EA1: ●経歴23 | EB1: 経歴24_年月日 | EC1: 経歴24_職名 | ED1: 経歴24_部局・課・室・係等名 | EE1: ●経歴24 | EF1: 資格等_語学等_英語(レベル) | EG1: 資格等_語学等_他の外国語1_言語 | EH1: 資格等_語学等_他の外国語1_レベル | EI1: 資格等_語学等_他の外国語2_言語 | EJ1: 資格等_語学等_他の外国語2_レベル | EK1: 資格等_語学等_英検・TOEIC等の資格・スコア・留学経験等 | EL1: 資格等_簿記(級) | EM1: 資格等_衛生管理者(種) | EN1: 資格等_その他 | EO1: 研修歴1_期間 | EP1: 研修歴1_研修名称 | EQ1: ●研修歴1 | ER1: 研修歴2_期間 | ES1: 研修歴2_研修名称 | ET1: ●研修歴2 | EU1: 研修歴3_期間 | EV1: 研修歴3_研修名称 | EW1: ●研修歴3 | EX1: 研修歴4_期間 | EY1: 研修歴4_研修名称 | EZ1: ●研修歴4 | FA1: 研修歴5_期間 | FB1: 研修歴5_研修名称 | FC1: ●研修歴5 | FD1: 研修歴6_期間 | FE1: 研修歴6_研修名称 | FF1: ●研修歴6 | FG1: 異動希望第1_大学本部・学部等 | FH1: 異動希望第1_職務 | FI1: 異動希望第1_理由 | FJ1: ●異動希望第1(大学本部・学部等&職務) | FK1: 異動希望第2_大学本部・学部等 | FL1: 異動希望第2_職務 | FM1: 異動希望第2_理由 | FN1: ●異動希望第2(大学本部・学部等&職務) | FO1: 異動希望第3_大学本部・学部等 | FP1: 異動希望第3_職務 | FQ1: 異動希望第3_理由 | FR1: ●異動希望第3(大学本部・学部等&職務) | FS1: 他機関との人事交流_県内_1.国立沖縄工業高等専門学校 | FT1: 他機関との人事交流_県内_2.国立沖縄青少年交流の家 | FU1: 他機関との人事交流_県内_3.西表研究施設（熱帯生物圏研究センター） | FV1: 他機関との人事交流_県外_1.文部科学省（行政実務研修） | FW1: 他機関との人事交流_県外_2.大学改革支援・学位授与機構 | FX1: 他機関との人事交流_県外_3.国立大学協会 | FY1: 他機関との人事交流_県外_4.日本学術振興会（国際学術交流研修） | FZ1: 他機関との人事交流_県外_5.その他 | GA1: 他機関との人事交流_県外_5.その他(機関名) | GB1: 他機関との人事交流_県外_(具体的な年数や理由等を記入) | GC1: 早期昇任希望_1.希望する | GD1: 早期昇任希望_2.希望しない | GE1: 早期昇任希望_3.現時点では希望しない | GF1: 民間等への転出等退職予定_1.無 | GG1: 民間等への転出等退職予定_2.有 | GH1: 民間等への転出等退職予定_2.有(機関名) | GI1: 健康状況_1.健康 | GJ1: 健康状況_2.やや不健康 | GK1: 健康状況_3.不健康 | GL1: 健康状況_(2、3の場合) | GM1: 家庭状況等_家族1_続柄 | GN1: 家庭状況等_家族1_氏名 | GO1: 家庭状況等_家族1_年齢 | GP1: 家庭状況等_家族1_職業・学年等 | GQ1: 家庭状況等_家族1_健康状況 | GR1: 家庭状況等_家族1_同居・別居 | GS1: 家庭状況等_家族2_続柄 | GT1: 家庭状況等_家族2_氏名 | GU1: 家庭状況等_家族2_年齢 | GV1: 家庭状況等_家族2_職業・学年等 | GW1: 家庭状況等_家族2_健康状況 | GX1: 家庭状況等_家族2_同居・別居 | GY1: 家庭状況等_家族3_続柄 | GZ1: 家庭状況等_家族3_氏名 | HA1: 家庭状況等_家族3_年齢 | HB1: 家庭状況等_家族3_職業・学年等 | HC1: 家庭状況等_家族3_健康状況 | HD1: 家庭状況等_家族3_同居・別居 | HE1: 家庭状況等_家族4_続柄 | HF1: 家庭状況等_家族4_氏名 | HG1: 家庭状況等_家族4_年齢 | HH1: 家庭状況等_家族4_職業・学年等 | HI1: 家庭状況等_家族4_健康状況 | HJ1: 家庭状況等_家族4_同居・別居 | HK1: 家庭状況等_家族5_続柄 | HL1: 家庭状況等_家族5_氏名 | HM1: 家庭状況等_家族5_年齢 | HN1: 家庭状況等_家族5_職業・学年等 | HO1: 家庭状況等_家族5_健康状況 | HP1: 家庭状況等_家族5_同居・別居 | HQ1: 家庭状況等_家族6_続柄 | HR1: 家庭状況等_家族6_氏名 | HS1: 家庭状況等_家族6_年齢 | HT1: 家庭状況等_家族6_職業・学年等 | HU1: 家庭状況等_家族6_健康状況 | HV1: 家庭状況等_家族6_同居・別居 | HW1: 家庭状況等_緊急連絡先(本人以外)_電話番号 | HX1: 家庭状況等_緊急連絡先(本人以外)_自宅 | HY1: 家庭状況等_緊急連絡先(本人以外)_その他 | HZ1: 家庭状況等_緊急連絡先(本人以外)_その他(連絡先) | IA1: 家庭状況等_本学職員に3親等以内の親族がいる場合 | IB1: 特記事項 | IC1: ※備考
A2: =TEXT(意向調書フォーム!Q2,"yyyy/m/d") -> 2025/12/1 | B2: =意向調書フォーム!C2 -> 0 | C2: =IF(意向調書フォーム!C3=0,"",意向調書フォーム!C3) | D2: =IF(意向調書フォーム!C4=0,"",意向調書フォーム!C4) | E2: =IF(意向調書フォーム!C5=0,"",意向調書フォーム!C5) | F2: =IF(意向調書フォーム!C6=0,"",意向調書フォーム!C6) | G2: =C2&D2&E2&F2 | H2: =IF(意向調書フォーム!H4=0,"",意向調書フォーム!H4) | I2: =IF(意向調書フォーム!J4=0,"",意向調書フォーム!J4) | J2: =H2&" "&I2 | K2: =IF(意向調書フォーム!L4=0,"",意向調書フォーム!L4) | L2: =IF(意向調書フォーム!N4=0,"",意向調書フォーム!N4) | M2: =K2&" "&L2 | N2: =IF(意向調書フォーム!H6=0,"",TEXT(意向調書フォーム!H6,"yyyy/m/d")) | O2: =意向調書フォーム!M6 | P2: =IF(意向調書フォーム!D8=0,"",意向調書フォーム!D8) | Q2: =IF(意向調書フォーム!K8=0,"",意向調書フォーム!K8) | R2: =意向調書フォーム!B9 | S2: =IF(意向調書フォーム!H9=0,"",意向調書フォーム!H9) | T2: =R2&S2 | U2: =IF(意向調書フォーム!B12=0,"",意向調書フォーム!B12) | V2: =IF(意向調書フォーム!G12=0,"",TEXT(意向調書フォーム!G12,"yyyy/m/d")) | W2: =意向調書フォーム!L12 | X2: =IF(意向調書フォーム!B15=0,"",TEXT(意向調書フォーム!B15,"yyyy/m/d")) | Y2: =IF(意向調書フォーム!F15=0,"",意向調書フォーム!F15) | Z2: =IF(意向調書フォーム!P15=0,"",意向調書フォーム!P15) -> 卒業 | AA2: =IF(意向調書フォーム!R15=0,"",意向調書フォーム!R15) | AB2: =X2&" "&Y2&" "&Z2&" "&AA2 -> 卒業 | AC2: =IF(意向調書フォーム!B16=0,"",TEXT(意向調書フォーム!B16,"yyyy/m/d")) | AD2: =IF(意向調書フォーム!F16=0,"",意向調書フォーム!F16) | AE2: =IF(意向調書フォーム!P16=0,"",意向調書フォーム!P16) -> 卒業 | AF2: =IF(意向調書フォーム!R16=0,"",意向調書フォーム!R16) | AG2: =AC2&" "&AD2&" "&AE2&" "&AF2 -> 卒業 | AH2: =IF(意向調書フォーム!B17=0,"",TEXT(意向調書フォーム!B17,"yyyy/m/d")) | AI2: =IF(意向調書フォーム!F17=0,"",意向調書フォーム!F17) | AJ2: =IF(意向調書フォーム!P17=0,"",意向調書フォーム!P17) | AK2: =IF(意向調書フォーム!R17=0,"",意向調書フォーム!R17) | AL2: =AH2&" "&AI2&" "&AJ2&" "&AK2 | AM2: =IF(意向調書フォーム!B19=0,"",意向調書フォーム!B19) | AN2: =IF(意向調書フォーム!B22=0,"",TEXT(意向調書フォーム!B22,"yyyy/m/d")) | AO2: =IF(意向調書フォーム!D22=0,"",意向調書フォーム!D22) | AP2: =IF(意向調書フォーム!F22=0,"",意向調書フォーム!F22) | AQ2: =AN2&"_"&AO2&"_"&AP2 -> __ | AR2: =IF(意向調書フォーム!B23=0,"",TEXT(意向調書フォーム!B23,"yyyy/m/d")) | AS2: =IF(意向調書フォーム!D23=0,"",意向調書フォーム!D23) | AT2: =IF(意向調書フォーム!F23=0,"",意向調書フォーム!F23) | AU2: =AR2&"_"&AS2&"_"&AT2 -> __ | AV2: =IF(意向調書フォーム!B24=0,"",TEXT(意向調書フォーム!B24,"yyyy/m/d")) | AW2: =IF(意向調書フォーム!D24=0,"",意向調書フォーム!D24) | AX2: =IF(意向調書フォーム!F24=0,"",意向調書フォーム!F24) | AY2: =AV2&"_"&AW2&"_"&AX2 -> __ | AZ2: =IF(意向調書フォーム!B25=0,"",TEXT(意向調書フォーム!B25,"yyyy/m/d")) | BA2: =IF(意向調書フォーム!D25=0,"",意向調書フォーム!D25) | BB2: =IF(意向調書フォーム!F25=0,"",意向調書フォーム!F25) | BC2: =AZ2&"_"&BA2&"_"&BB2 -> __ | BD2: =IF(意向調書フォーム!B26=0,"",TEXT(意向調書フォーム!B26,"yyyy/m/d")) | BE2: =IF(意向調書フォーム!D26=0,"",意向調書フォーム!D26) | BF2: =IF(意向調書フォーム!F26=0,"",意向調書フォーム!F26) | BG2: =BD2&"_"&BE2&"_"&BF2 -> __ | BH2: =IF(意向調書フォーム!B27=0,"",TEXT(意向調書フォーム!B27,"yyyy/m/d")) | BI2: =IF(意向調書フォーム!D27=0,"",意向調書フォーム!D27) | BJ2: =IF(意向調書フォーム!F27=0,"",意向調書フォーム!F27) | BK2: =BH2&"_"&BI2&"_"&BJ2 -> __ | BL2: =IF(意向調書フォーム!B28=0,"",TEXT(意向調書フォーム!B28,"yyyy/m/d")) | BM2: =IF(意向調書フォーム!D28=0,"",意向調書フォーム!D28) | BN2: =IF(意向調書フォーム!F28=0,"",意向調書フォーム!F28) | BO2: =BL2&"_"&BM2&"_"&BN2 -> __ | BP2: =IF(意向調書フォーム!B29=0,"",TEXT(意向調書フォーム!B29,"yyyy/m/d")) | BQ2: =IF(意向調書フォーム!D29=0,"",意向調書フォーム!D29) | BR2: =IF(意向調書フォーム!F29=0,"",意向調書フォーム!F29) | BS2: =BP2&"_"&BQ2&"_"&BR2 -> __ | BT2: =IF(意向調書フォーム!B30=0,"",TEXT(意向調書フォーム!B30,"yyyy/m/d")) | BU2: =IF(意向調書フォーム!D30=0,"",意向調書フォーム!D30) | BV2: =IF(意向調書フォーム!F30=0,"",意向調書フォーム!F30) | BW2: =BT2&"_"&BU2&"_"&BV2 -> __ | BX2: =IF(意向調書フォーム!B31=0,"",TEXT(意向調書フォーム!B31,"yyyy/m/d")) | BY2: =IF(意向調書フォーム!D31=0,"",意向調書フォーム!D31) | BZ2: =IF(意向調書フォーム!F31=0,"",意向調書フォーム!F31) | CA2: =BX2&"_"&BY2&"_"&BZ2 -> __ | CB2: =IF(意向調書フォーム!B32=0,"",TEXT(意向調書フォーム!B32,"yyyy/m/d")) | CC2: =IF(意向調書フォーム!D32=0,"",意向調書フォーム!D32) | CD2: =IF(意向調書フォーム!F32=0,"",意向調書フォーム!F32) | CE2: =CB2&"_"&CC2&"_"&CD2 -> __ | CF2: =IF(意向調書フォーム!B33=0,"",TEXT(意向調書フォーム!B33,"yyyy/m/d")) | CG2: =IF(意向調書フォーム!D33=0,"",意向調書フォーム!D33) | CH2: =IF(意向調書フォーム!F33=0,"",意向調書フォーム!F33) | CI2: =CF2&"_"&CG2&"_"&CH2 -> __ | CJ2: =IF(意向調書フォーム!K22=0,"",TEXT(意向調書フォーム!K22,"yyyy/m/d")) | CK2: =IF(意向調書フォーム!M22=0,"",意向調書フォーム!M22) | CL2: =IF(意向調書フォーム!O22=0,"",意向調書フォーム!O22) | CM2: =CJ2&"_"&CK2&"_"&CL2 -> __ | CN2: =IF(意向調書フォーム!K23=0,"",TEXT(意向調書フォーム!K23,"yyyy/m/d")) | CO2: =IF(意向調書フォーム!M23=0,"",意向調書フォーム!M23) | CP2: =IF(意向調書フォーム!O23=0,"",意向調書フォーム!O23) | CQ2: =CN2&"_"&CO2&"_"&CP2 -> __ | CR2: =IF(意向調書フォーム!K24=0,"",TEXT(意向調書フォーム!K24,"yyyy/m/d")) | CS2: =IF(意向調書フォーム!M24=0,"",意向調書フォーム!M24) | CT2: =IF(意向調書フォーム!O24=0,"",意向調書フォーム!O24) | CU2: =CR2&"_"&CS2&"_"&CT2 -> __ | CV2: =IF(意向調書フォーム!K25=0,"",TEXT(意向調書フォーム!K25,"yyyy/m/d")) | CW2: =IF(意向調書フォーム!M25=0,"",意向調書フォーム!M25) | CX2: =IF(意向調書フォーム!O25=0,"",意向調書フォーム!O25) | CY2: =CV2&"_"&CW2&"_"&CX2 -> __ | CZ2: =IF(意向調書フォーム!K26=0,"",TEXT(意向調書フォーム!K26,"yyyy/m/d")) | DA2: =IF(意向調書フォーム!M26=0,"",意向調書フォーム!M26) | DB2: =IF(意向調書フォーム!O26=0,"",意向調書フォーム!O26) | DC2: =CZ2&"_"&DA2&"_"&DB2 -> __ | DD2: =IF(意向調書フォーム!K27=0,"",TEXT(意向調書フォーム!K27,"yyyy/m/d")) | DE2: =IF(意向調書フォーム!M27=0,"",意向調書フォーム!M27) | DF2: =IF(意向調書フォーム!O27=0,"",意向調書フォーム!O27) | DG2: =DD2&"_"&DE2&"_"&DF2 -> __ | DH2: =IF(意向調書フォーム!K28=0,"",TEXT(意向調書フォーム!K28,"yyyy/m/d")) | DI2: =IF(意向調書フォーム!M28=0,"",意向調書フォーム!M28) | DJ2: =IF(意向調書フォーム!O28=0,"",意向調書フォーム!O28) | DK2: =DH2&"_"&DI2&"_"&DJ2 -> __ | DL2: =IF(意向調書フォーム!K29=0,"",TEXT(意向調書フォーム!K29,"yyyy/m/d")) | DM2: =IF(意向調書フォーム!M29=0,"",意向調書フォーム!M29) | DN2: =IF(意向調書フォーム!O29=0,"",意向調書フォーム!O29) | DO2: =DL2&"_"&DM2&"_"&DN2 -> __ | DP2: =IF(意向調書フォーム!K30=0,"",TEXT(意向調書フォーム!K30,"yyyy/m/d")) | DQ2: =IF(意向調書フォーム!M30=0,"",意向調書フォーム!M30) | DR2: =IF(意向調書フォーム!O30=0,"",意向調書フォーム!O30) | DS2: =DP2&"_"&DQ2&"_"&DR2 -> __ | DT2: =IF(意向調書フォーム!K31=0,"",TEXT(意向調書フォーム!K31,"yyyy/m/d")) | DU2: =IF(意向調書フォーム!M31=0,"",意向調書フォーム!M31) | DV2: =IF(意向調書フォーム!O31=0,"",意向調書フォーム!O31) | DW2: =DT2&"_"&DU2&"_"&DV2 -> __ | DX2: =IF(意向調書フォーム!K32=0,"",TEXT(意向調書フォーム!K32,"yyyy/m/d")) | DY2: =IF(意向調書フォーム!M32=0,"",意向調書フォーム!M32) | DZ2: =IF(意向調書フォーム!O32=0,"",意向調書フォーム!O32) | EA2: =DX2&"_"&DY2&"_"&DZ2 -> __ | EB2: =IF(意向調書フォーム!K33=0,"",TEXT(意向調書フォーム!K33,"yyyy/m/d")) | EC2: =IF(意向調書フォーム!M33=0,"",意向調書フォーム!M33) | ED2: =IF(意向調書フォーム!O33=0,"",意向調書フォーム!O33) | EE2: =EB2&"_"&EC2&"_"&ED2 -> __ | EF2: =IF(意向調書フォーム!C37=0,"",意向調書フォーム!C37) | EG2: =IF(意向調書フォーム!G36=0,"",意向調書フォーム!G36) | EH2: =IF(意向調書フォーム!J36=0,"",意向調書フォーム!J36) | EI2: =IF(意向調書フォーム!G37=0,"",意向調書フォーム!G37) | EJ2: =IF(意向調書フォーム!J37=0,"",意向調書フォーム!J37) | EK2: =IF(意向調書フォーム!K36=0,"",意向調書フォーム!K36) | EL2: =IF(意向調書フォーム!C38=0,"",意向調書フォーム!C38) | EM2: =IF(意向調書フォーム!M38=0,"",意向調書フォーム!M38) | EN2: =IF(意向調書フォーム!C39=0,"",意向調書フォーム!C39) | EO2: =IF(意向調書フォーム!B42=0,"",意向調書フォーム!B42) | EP2: =IF(意向調書フォーム!H42=0,"",意向調書フォーム!H42) | EQ2: =EO2&"_"&EP2 -> _ | ER2: =IF(意向調書フォーム!B43=0,"",意向調書フォーム!B43) | ES2: =IF(意向調書フォーム!H43=0,"",意向調書フォーム!H43) | ET2: =ER2&"_"&ES2 -> _ | EU2: =IF(意向調書フォーム!B44=0,"",意向調書フォーム!B44) | EV2: =IF(意向調書フォーム!H44=0,"",意向調書フォーム!H44) | EW2: =EU2&"_"&EV2 -> _ | EX2: =IF(意向調書フォーム!B45=0,"",意向調書フォーム!B45) | EY2: =IF(意向調書フォーム!H45=0,"",意向調書フォーム!H45) | EZ2: =EX2&"_"&EY2 -> _ | FA2: =IF(意向調書フォーム!B46=0,"",意向調書フォーム!B46) | FB2: =IF(意向調書フォーム!H46=0,"",意向調書フォーム!H46) | FC2: =FA2&"_"&FB2 -> _ | FD2: =IF(意向調書フォーム!B47=0,"",意向調書フォーム!B47) | FE2: =IF(意向調書フォーム!H47=0,"",意向調書フォーム!H47) | FF2: =FD2&"_"&FE2 -> _ | FG2: =IF(意向調書フォーム!E50=0,"",意向調書フォーム!E50) | FH2: =IF(意向調書フォーム!E51=0,"",意向調書フォーム!E51) | FI2: =IF(意向調書フォーム!E52=0,"",意向調書フォーム!E52) | FJ2: =FG2&"_"&FH2 -> _ | FK2: =IF(意向調書フォーム!J50=0,"",意向調書フォーム!J50) | FL2: =IF(意向調書フォーム!J51=0,"",意向調書フォーム!J51) | FM2: =IF(意向調書フォーム!J52=0,"",意向調書フォーム!J52) | FN2: =FK2&"_"&FL2 -> _ | FO2: =IF(意向調書フォーム!O50=0,"",意向調書フォーム!O50) | FP2: =IF(意向調書フォーム!O51=0,"",意向調書フォーム!O51) | FQ2: =IF(意向調書フォーム!O52=0,"",意向調書フォーム!O52) | FR2: =FO2&"_"&FP2 -> _ | FS2: =IF(意向調書フォーム!I56=0,"",意向調書フォーム!I56) | FT2: =IF(意向調書フォーム!I57=0,"",意向調書フォーム!I57) | FU2: =IF(意向調書フォーム!I58=0,"",意向調書フォーム!I58) | FV2: =IF(意向調書フォーム!R56=0,"",意向調書フォーム!R56) | FW2: =IF(意向調書フォーム!R57=0,"",意向調書フォーム!R57) | FX2: =IF(意向調書フォーム!R58=0,"",意向調書フォーム!R58) | FY2: =IF(意向調書フォーム!R59=0,"",意向調書フォーム!R59) | FZ2: =IF(意向調書フォーム!R60=0,"",意向調書フォーム!R60) | GA2: =IF(意向調書フォーム!N60=0,"",意向調書フォーム!N60) | GB2: =IF(意向調書フォーム!A62=0,"",意向調書フォーム!A62) | GC2: =IF(意向調書フォーム!F65=0,"",意向調書フォーム!F65) | GD2: =IF(意向調書フォーム!F66=0,"",意向調書フォーム!F66) | GE2: =IF(意向調書フォーム!F67=0,"",意向調書フォーム!F67) | GF2: =IF(意向調書フォーム!M65=0,"",意向調書フォーム!M65) | GG2: =IF(意向調書フォーム!M66=0,"",意向調書フォーム!M66) | GH2: =IF(意向調書フォーム!O66=0,"",意向調書フォーム!O66) | GI2: =IF(意向調書フォーム!E69=0,"",意向調書フォーム!E69) | GJ2: =IF(意向調書フォーム!K69=0,"",意向調書フォーム!K69) | GK2: =IF(意向調書フォーム!Q69=0,"",意向調書フォーム!Q69) | GL2: =IF(意向調書フォーム!G70=0,"",意向調書フォーム!G70) | GM2: =IF(意向調書フォーム!B73=0,"",意向調書フォーム!B73) | GN2: =IF(意向調書フォーム!D73=0,"",意向調書フォーム!D73) | GO2: =IF(意向調書フォーム!I73=0,"",意向調書フォーム!I73) | GP2: =IF(意向調書フォーム!K73=0,"",意向調書フォーム!K73) | GQ2: =IF(意向調書フォーム!P73=0,"",意向調書フォーム!P73) | GR2: =IF(意向調書フォーム!R73=0,"",意向調書フォーム!R73) | GS2: =IF(意向調書フォーム!B74=0,"",意向調書フォーム!B74) | GT2: =IF(意向調書フォーム!D74=0,"",意向調書フォーム!D74) | GU2: =IF(意向調書フォーム!I74=0,"",意向調書フォーム!I74) | GV2: =IF(意向調書フォーム!K74=0,"",意向調書フォーム!K74) | GW2: =IF(意向調書フォーム!P74=0,"",意向調書フォーム!P74) | GX2: =IF(意向調書フォーム!R74=0,"",意向調書フォーム!R74) | GY2: =IF(意向調書フォーム!B75=0,"",意向調書フォーム!B75) | GZ2: =IF(意向調書フォーム!D75=0,"",意向調書フォーム!D75) | HA2: =IF(意向調書フォーム!I75=0,"",意向調書フォーム!I75) | HB2: =IF(意向調書フォーム!K75=0,"",意向調書フォーム!K75) | HC2: =IF(意向調書フォーム!P75=0,"",意向調書フォーム!P75) | HD2: =IF(意向調書フォーム!R75=0,"",意向調書フォーム!R75) | HE2: =IF(意向調書フォーム!B76=0,"",意向調書フォーム!B76) | HF2: =IF(意向調書フォーム!D76=0,"",意向調書フォーム!D76) | HG2: =IF(意向調書フォーム!I76=0,"",意向調書フォーム!I76) | HH2: =IF(意向調書フォーム!K76=0,"",意向調書フォーム!K76) | HI2: =IF(意向調書フォーム!P76=0,"",意向調書フォーム!P76) | HJ2: =IF(意向調書フォーム!R76=0,"",意向調書フォーム!R76) | HK2: =IF(意向調書フォーム!B77=0,"",意向調書フォーム!B77) | HL2: =IF(意向調書フォーム!D77=0,"",意向調書フォーム!D77) | HM2: =IF(意向調書フォーム!I77=0,"",意向調書フォーム!I77) | HN2: =IF(意向調書フォーム!K77=0,"",意向調書フォーム!K77) | HO2: =IF(意向調書フォーム!P77=0,"",意向調書フォーム!P77) | HP2: =IF(意向調書フォーム!R77=0,"",意向調書フォーム!R77) | HQ2: =IF(意向調書フォーム!B78=0,"",意向調書フォーム!B78) | HR2: =IF(意向調書フォーム!D78=0,"",意向調書フォーム!D78) | HS2: =IF(意向調書フォーム!I78=0,"",意向調書フォーム!I78) | HT2: =IF(意向調書フォーム!K78=0,"",意向調書フォーム!K78) | HU2: =IF(意向調書フォーム!P78=0,"",意向調書フォーム!P78) | HV2: =IF(意向調書フォーム!R78=0,"",意向調書フォーム!R78) | HW2: =IF(意向調書フォーム!I79=0,"",意向調書フォーム!I79) | HX2: =IF(意向調書フォーム!N79=0,"",意向調書フォーム!N79) | HY2: =IF(意向調書フォーム!P79=0,"",意向調書フォーム!P79) | HZ2: =IF(意向調書フォーム!Q79=0,"",意向調書フォーム!Q79) | IA2: =IF(意向調書フォーム!B81=0,"",意向調書フォーム!B81) | IB2: =IF(意向調書フォーム!B83=0,"",意向調書フォーム!B83) | IC2: =IF(意向調書フォーム!B85=0,"",意向調書フォーム!B85)
